BEGIN:VCALENDAR
VERSION:2.0
PRODID:-//Osnabrücker Kanu-Club von 1926 e.V.. - ECPv6.15.20//NONSGML v1.0//EN
CALSCALE:GREGORIAN
METHOD:PUBLISH
X-ORIGINAL-URL:https://www.osnabruecker-kanu-club.de
X-WR-CALDESC:Veranstaltungen für Osnabrücker Kanu-Club von 1926 e.V..
REFRESH-INTERVAL;VALUE=DURATION:PT1H
X-Robots-Tag:noindex
X-PUBLISHED-TTL:PT1H
BEGIN:VTIMEZONE
TZID:Europe/Berlin
BEGIN:DAYLIGHT
TZOFFSETFROM:+0100
TZOFFSETTO:+0200
TZNAME:CEST
DTSTART:20220327T010000
END:DAYLIGHT
BEGIN:STANDARD
TZOFFSETFROM:+0200
TZOFFSETTO:+0100
TZNAME:CET
DTSTART:20221030T010000
END:STANDARD
BEGIN:DAYLIGHT
TZOFFSETFROM:+0100
TZOFFSETTO:+0200
TZNAME:CEST
DTSTART:20230326T010000
END:DAYLIGHT
BEGIN:STANDARD
TZOFFSETFROM:+0200
TZOFFSETTO:+0100
TZNAME:CET
DTSTART:20231029T010000
END:STANDARD
BEGIN:DAYLIGHT
TZOFFSETFROM:+0100
TZOFFSETTO:+0200
TZNAME:CEST
DTSTART:20240331T010000
END:DAYLIGHT
BEGIN:STANDARD
TZOFFSETFROM:+0200
TZOFFSETTO:+0100
TZNAME:CET
DTSTART:20241027T010000
END:STANDARD
END:VTIMEZONE
BEGIN:VEVENT
DTSTART;TZID=Europe/Berlin:20230427T180000
DTEND;TZID=Europe/Berlin:20230427T200000
DTSTAMP:20260421T055557
CREATED:20230318T085135Z
LAST-MODIFIED:20230318T085135Z
UID:10005992-1682618400-1682625600@www.osnabruecker-kanu-club.de
SUMMARY:Feierabendpaddeln 2.0
DESCRIPTION:Das Feierabendpaddeln richtet sich wie üblich an alle Vereinsmitglieder und der Fokus liegt bei diesen Terminen darauf\, dass wir gezielter auf verschiedene Paddel- und Rettungstechniken eingehen. Dafür gibt es zu jedem Feierabendpaddeltermin einen theoretischen Schwerpunkt. Vor allem Anfänger sind willkommen. Das ausgewählte Thema besprechen wir kurz zu Beginn\, wärmen uns dann gemeinsam auf und versuchen auf dem Wasser das vorher besprochene umzusetzen und zu üben. Dabei darf der gemeinsame Spaß am Kajak fahren nicht zu kurz kommen und jeder hat die Möglichkeit das gelernte in seinem Tempo umzusetzen. Und wenn es sich ergibt\, landet am Ende des Feierabendpaddeln passend zum Clubabend vielleicht noch eine Wurst auf dem Grill 😉. \nWir treffen uns immer um 18 Uhr fertig umgezogen bei den Vereinsbooten.
URL:https://www.osnabruecker-kanu-club.de/event/feierabendpaddeln-2-0-4/
LOCATION:Osnabrücker Kanu-Club (OKC)\, Die Eversburg 58\, Osnabrück\, 49090\, Deutschland
CATEGORIES:Paddelgrundlagen,Techniktraining
ATTACH;FMTTYPE=image/jpeg:https://www.osnabruecker-kanu-club.de/wp-content/uploads/2022/04/IMG_1506.jpg
ORGANIZER;CN="Daria":MAILTO:kanutrainerin.daria@gmail.com
GEO:52.3101755;7.9988733
X-APPLE-STRUCTURED-LOCATION;VALUE=URI;X-ADDRESS=Osnabrücker Kanu-Club (OKC) Die Eversburg 58 Osnabrück 49090 Deutschland;X-APPLE-RADIUS=500;X-TITLE=Die Eversburg 58:geo:7.9988733,52.3101755
END:VEVENT
END:VCALENDAR