BEGIN:VCALENDAR
VERSION:2.0
PRODID:-//Osnabrücker Kanu-Club von 1926 e.V.. - ECPv6.15.20//NONSGML v1.0//EN
CALSCALE:GREGORIAN
METHOD:PUBLISH
X-WR-CALNAME:Osnabrücker Kanu-Club von 1926 e.V..
X-ORIGINAL-URL:https://www.osnabruecker-kanu-club.de
X-WR-CALDESC:Veranstaltungen für Osnabrücker Kanu-Club von 1926 e.V..
REFRESH-INTERVAL;VALUE=DURATION:PT1H
X-Robots-Tag:noindex
X-PUBLISHED-TTL:PT1H
BEGIN:VTIMEZONE
TZID:Europe/Berlin
BEGIN:DAYLIGHT
TZOFFSETFROM:+0100
TZOFFSETTO:+0200
TZNAME:CEST
DTSTART:20230326T010000
END:DAYLIGHT
BEGIN:STANDARD
TZOFFSETFROM:+0200
TZOFFSETTO:+0100
TZNAME:CET
DTSTART:20231029T010000
END:STANDARD
BEGIN:DAYLIGHT
TZOFFSETFROM:+0100
TZOFFSETTO:+0200
TZNAME:CEST
DTSTART:20240331T010000
END:DAYLIGHT
BEGIN:STANDARD
TZOFFSETFROM:+0200
TZOFFSETTO:+0100
TZNAME:CET
DTSTART:20241027T010000
END:STANDARD
BEGIN:DAYLIGHT
TZOFFSETFROM:+0100
TZOFFSETTO:+0200
TZNAME:CEST
DTSTART:20250330T010000
END:DAYLIGHT
BEGIN:STANDARD
TZOFFSETFROM:+0200
TZOFFSETTO:+0100
TZNAME:CET
DTSTART:20251026T010000
END:STANDARD
END:VTIMEZONE
BEGIN:VEVENT
DTSTART;TZID=Europe/Berlin:20241002T180000
DTEND;TZID=Europe/Berlin:20241002T190000
DTSTAMP:20260420T030919
CREATED:20231005T064730Z
LAST-MODIFIED:20241113T125733Z
UID:10006383-1727892000-1727895600@www.osnabruecker-kanu-club.de
SUMMARY:Bellicon-Training
DESCRIPTION:Beim Bellicon-Training handelt es sich um ein intensives Fitnessprogramm mit vielfältigen Übungskombinationen auf dem Trampolin. Es steigert die Ausdauer\, verbessert die Koordination\, stärkt die Muskeln und strafft nebenbei den ganzen Körper. Das Workout ist ganzheitlich und gelenkschonend. \nBenötigte Ausrüstung: Stopper-Socken \nAnmeldung bitte über https://xoyondo.com/dp/ue8rjfcGK4TyRWA  \nBitte gibt beim Ausfüllen der Anmeldung deinen Vor- und Nachnamen sowie deine Emailadresse an\, damit Verena im Fall des Falles mit dir in Kontakt treten kann\, z.B.\, wenn sie einen Termin kurzfristig absagen muss. Noch besser klappt es mit solchen An- bzw. Absagen\, wenn du ihrer Signal-Gruppe „Hoppers“ beitrittst. \nUm der Signal-Gruppe beizutreten\, klicke auf das Symbol:   \nRückfragen an Verena gerne auch per Mail (verenaweidner@gmx.de) oder per Telefon (0151 56003631).
URL:https://www.osnabruecker-kanu-club.de/event/bellicon-training-11-2-2/2024-10-02/
LOCATION:Osnabrücker Ruderverein (ORV)\, Glückaufstr. 16\, Osnabrück\, 49090\, Deutschland
CATEGORIES:Bellicon-Training,Gesundheitssport
ATTACH;FMTTYPE=image/jpeg:https://www.osnabruecker-kanu-club.de/wp-content/uploads/2023/01/bellicon.jpg
ORGANIZER;CN="Verena Weidner":MAILTO:verenaweidner@gmx.de
GEO:52.3097006;8.0003232
X-APPLE-STRUCTURED-LOCATION;VALUE=URI;X-ADDRESS=Osnabrücker Ruderverein (ORV) Glückaufstr. 16 Osnabrück 49090 Deutschland;X-APPLE-RADIUS=500;X-TITLE=Glückaufstr. 16:geo:8.0003232,52.3097006
END:VEVENT
BEGIN:VEVENT
DTSTART;TZID=Europe/Berlin:20241003T180000
DTEND;TZID=Europe/Berlin:20241003T200000
DTSTAMP:20260420T030919
CREATED:20240510T120234Z
LAST-MODIFIED:20240510T120234Z
UID:10006806-1727978400-1727985600@www.osnabruecker-kanu-club.de
SUMMARY:Clubabend
DESCRIPTION:Gemeinsames Zusammensitzen und Austauschen am Bootshaus. Wer Lust hat\, geht vorher eine Runde paddeln.
URL:https://www.osnabruecker-kanu-club.de/event/clubabend-2/2024-10-03/
LOCATION:Osnabrücker Kanu-Club (OKC)\, Die Eversburg 58\, Osnabrück\, 49090\, Deutschland
CATEGORIES:Clubabend
ORGANIZER;CN="Osnabr%C3%BCcker Kanu-Club (OKC)":MAILTO:kontakt@osnabruecker-kanu-club.de
GEO:52.3101755;7.9988733
X-APPLE-STRUCTURED-LOCATION;VALUE=URI;X-ADDRESS=Osnabrücker Kanu-Club (OKC) Die Eversburg 58 Osnabrück 49090 Deutschland;X-APPLE-RADIUS=500;X-TITLE=Die Eversburg 58:geo:7.9988733,52.3101755
END:VEVENT
BEGIN:VEVENT
DTSTART;TZID=Europe/Berlin:20241009T180000
DTEND;TZID=Europe/Berlin:20241009T190000
DTSTAMP:20260420T030919
CREATED:20231005T064730Z
LAST-MODIFIED:20241113T125733Z
UID:10006384-1728496800-1728500400@www.osnabruecker-kanu-club.de
SUMMARY:Bellicon-Training
DESCRIPTION:Beim Bellicon-Training handelt es sich um ein intensives Fitnessprogramm mit vielfältigen Übungskombinationen auf dem Trampolin. Es steigert die Ausdauer\, verbessert die Koordination\, stärkt die Muskeln und strafft nebenbei den ganzen Körper. Das Workout ist ganzheitlich und gelenkschonend. \nBenötigte Ausrüstung: Stopper-Socken \nAnmeldung bitte über https://xoyondo.com/dp/ue8rjfcGK4TyRWA  \nBitte gibt beim Ausfüllen der Anmeldung deinen Vor- und Nachnamen sowie deine Emailadresse an\, damit Verena im Fall des Falles mit dir in Kontakt treten kann\, z.B.\, wenn sie einen Termin kurzfristig absagen muss. Noch besser klappt es mit solchen An- bzw. Absagen\, wenn du ihrer Signal-Gruppe „Hoppers“ beitrittst. \nUm der Signal-Gruppe beizutreten\, klicke auf das Symbol:   \nRückfragen an Verena gerne auch per Mail (verenaweidner@gmx.de) oder per Telefon (0151 56003631).
URL:https://www.osnabruecker-kanu-club.de/event/bellicon-training-11-2-2/2024-10-09/
LOCATION:Osnabrücker Ruderverein (ORV)\, Glückaufstr. 16\, Osnabrück\, 49090\, Deutschland
CATEGORIES:Bellicon-Training,Gesundheitssport
ATTACH;FMTTYPE=image/jpeg:https://www.osnabruecker-kanu-club.de/wp-content/uploads/2023/01/bellicon.jpg
ORGANIZER;CN="Verena Weidner":MAILTO:verenaweidner@gmx.de
GEO:52.3097006;8.0003232
X-APPLE-STRUCTURED-LOCATION;VALUE=URI;X-ADDRESS=Osnabrücker Ruderverein (ORV) Glückaufstr. 16 Osnabrück 49090 Deutschland;X-APPLE-RADIUS=500;X-TITLE=Glückaufstr. 16:geo:8.0003232,52.3097006
END:VEVENT
BEGIN:VEVENT
DTSTART;TZID=Europe/Berlin:20241010T180000
DTEND;TZID=Europe/Berlin:20241010T200000
DTSTAMP:20260420T030919
CREATED:20240510T120234Z
LAST-MODIFIED:20240510T120234Z
UID:10006807-1728583200-1728590400@www.osnabruecker-kanu-club.de
SUMMARY:Clubabend
DESCRIPTION:Gemeinsames Zusammensitzen und Austauschen am Bootshaus. Wer Lust hat\, geht vorher eine Runde paddeln.
URL:https://www.osnabruecker-kanu-club.de/event/clubabend-2/2024-10-10/
LOCATION:Osnabrücker Kanu-Club (OKC)\, Die Eversburg 58\, Osnabrück\, 49090\, Deutschland
CATEGORIES:Clubabend
ORGANIZER;CN="Osnabr%C3%BCcker Kanu-Club (OKC)":MAILTO:kontakt@osnabruecker-kanu-club.de
GEO:52.3101755;7.9988733
X-APPLE-STRUCTURED-LOCATION;VALUE=URI;X-ADDRESS=Osnabrücker Kanu-Club (OKC) Die Eversburg 58 Osnabrück 49090 Deutschland;X-APPLE-RADIUS=500;X-TITLE=Die Eversburg 58:geo:7.9988733,52.3101755
END:VEVENT
BEGIN:VEVENT
DTSTART;TZID=Europe/Berlin:20241010T193000
DTEND;TZID=Europe/Berlin:20241010T210000
DTSTAMP:20260420T030919
CREATED:20241003T110813Z
LAST-MODIFIED:20241003T110813Z
UID:10006864-1728588600-1728594000@www.osnabruecker-kanu-club.de
SUMMARY:Winterprogramm planen
DESCRIPTION:Dieser Donnerstagabend soll dazu da sein\, das Winterprogramm zu planen. Also kommt gerne vorbei\, wenn ihr eine Veranstaltungsidee habt\, die ihr für den OKC gerne im Winter umsetzen möchtet. Dabei muss es nicht immer um das Thema Kajak fahren gehen. Ihr könnt auch Kochabende\, Filmabende\, Yoga zum Ausprobieren\, Reiseberichte\, etc. anbieten. Wer an diesem Termin nicht kann\, schreibt mir eine Email mit seiner/ ihrer Idee an: wanderwartin@osnabruecker-kanu-club.de und mögliche Termine\, an denen ihr die Veranstaltung gerne anbieten möchtet. \nWir starten um 19:30 Uhr. \nMeldet euch gerne unten an\, damit ich einen Überblick habe\, wer kommen würde. \n 
URL:https://www.osnabruecker-kanu-club.de/event/winterprogramm-planen/
LOCATION:Osnabrücker Kanu-Club (OKC)\, Die Eversburg 58\, Osnabrück\, 49090\, Deutschland
CATEGORIES:sonstige Veranstaltungen,Veranstaltungen
ATTACH;FMTTYPE=image/jpeg:https://www.osnabruecker-kanu-club.de/wp-content/uploads/2023/10/heat-2603721_960_720.jpg
ORGANIZER;CN="Daria":MAILTO:kanutrainerin.daria@gmail.com
GEO:52.3101755;7.9988733
X-APPLE-STRUCTURED-LOCATION;VALUE=URI;X-ADDRESS=Osnabrücker Kanu-Club (OKC) Die Eversburg 58 Osnabrück 49090 Deutschland;X-APPLE-RADIUS=500;X-TITLE=Die Eversburg 58:geo:7.9988733,52.3101755
END:VEVENT
BEGIN:VEVENT
DTSTART;TZID=Europe/Berlin:20241016T180000
DTEND;TZID=Europe/Berlin:20241016T190000
DTSTAMP:20260420T030919
CREATED:20231005T064730Z
LAST-MODIFIED:20241113T125733Z
UID:10006385-1729101600-1729105200@www.osnabruecker-kanu-club.de
SUMMARY:Bellicon-Training
DESCRIPTION:Beim Bellicon-Training handelt es sich um ein intensives Fitnessprogramm mit vielfältigen Übungskombinationen auf dem Trampolin. Es steigert die Ausdauer\, verbessert die Koordination\, stärkt die Muskeln und strafft nebenbei den ganzen Körper. Das Workout ist ganzheitlich und gelenkschonend. \nBenötigte Ausrüstung: Stopper-Socken \nAnmeldung bitte über https://xoyondo.com/dp/ue8rjfcGK4TyRWA  \nBitte gibt beim Ausfüllen der Anmeldung deinen Vor- und Nachnamen sowie deine Emailadresse an\, damit Verena im Fall des Falles mit dir in Kontakt treten kann\, z.B.\, wenn sie einen Termin kurzfristig absagen muss. Noch besser klappt es mit solchen An- bzw. Absagen\, wenn du ihrer Signal-Gruppe „Hoppers“ beitrittst. \nUm der Signal-Gruppe beizutreten\, klicke auf das Symbol:   \nRückfragen an Verena gerne auch per Mail (verenaweidner@gmx.de) oder per Telefon (0151 56003631).
URL:https://www.osnabruecker-kanu-club.de/event/bellicon-training-11-2-2/2024-10-16/
LOCATION:Osnabrücker Ruderverein (ORV)\, Glückaufstr. 16\, Osnabrück\, 49090\, Deutschland
CATEGORIES:Bellicon-Training,Gesundheitssport
ATTACH;FMTTYPE=image/jpeg:https://www.osnabruecker-kanu-club.de/wp-content/uploads/2023/01/bellicon.jpg
ORGANIZER;CN="Verena Weidner":MAILTO:verenaweidner@gmx.de
GEO:52.3097006;8.0003232
X-APPLE-STRUCTURED-LOCATION;VALUE=URI;X-ADDRESS=Osnabrücker Ruderverein (ORV) Glückaufstr. 16 Osnabrück 49090 Deutschland;X-APPLE-RADIUS=500;X-TITLE=Glückaufstr. 16:geo:8.0003232,52.3097006
END:VEVENT
BEGIN:VEVENT
DTSTART;TZID=Europe/Berlin:20241017T180000
DTEND;TZID=Europe/Berlin:20241017T200000
DTSTAMP:20260420T030919
CREATED:20240510T120234Z
LAST-MODIFIED:20240510T120234Z
UID:10006808-1729188000-1729195200@www.osnabruecker-kanu-club.de
SUMMARY:Clubabend
DESCRIPTION:Gemeinsames Zusammensitzen und Austauschen am Bootshaus. Wer Lust hat\, geht vorher eine Runde paddeln.
URL:https://www.osnabruecker-kanu-club.de/event/clubabend-2/2024-10-17/
LOCATION:Osnabrücker Kanu-Club (OKC)\, Die Eversburg 58\, Osnabrück\, 49090\, Deutschland
CATEGORIES:Clubabend
ORGANIZER;CN="Osnabr%C3%BCcker Kanu-Club (OKC)":MAILTO:kontakt@osnabruecker-kanu-club.de
GEO:52.3101755;7.9988733
X-APPLE-STRUCTURED-LOCATION;VALUE=URI;X-ADDRESS=Osnabrücker Kanu-Club (OKC) Die Eversburg 58 Osnabrück 49090 Deutschland;X-APPLE-RADIUS=500;X-TITLE=Die Eversburg 58:geo:7.9988733,52.3101755
END:VEVENT
BEGIN:VEVENT
DTSTART;TZID=Europe/Berlin:20241019T180000
DTEND;TZID=Europe/Berlin:20241019T210000
DTSTAMP:20260420T030919
CREATED:20241001T124726Z
LAST-MODIFIED:20241001T125738Z
UID:10006848-1729360800-1729371600@www.osnabruecker-kanu-club.de
SUMMARY:Hallenbadzeit - freies Training
DESCRIPTION:Wenn du mit ins Hallenbad kommen möchtest\, aber nicht zu einem der angeleiteten Rollentrainings angemeldet bist\, dann melde dich bitte hier zur besseren Übersicht für das freie Training im Hallenbad an. Wir starten um 18 Uhr im Hallenfreibad Lienen (Holperdorper Straße 39\, 49536Lienen). \nEintritt: Erwachsene: 6€\, Kinder:4€
URL:https://www.osnabruecker-kanu-club.de/event/hallenbadzeit-freies-training/
LOCATION:Hallenfreibad Lienen\, Holperdorp Str. 37\, Lienen\, 49536\, Deutschland
CATEGORIES:Hallenbadtraining,Rollentraining,Veranstaltungen
ATTACH;FMTTYPE=image/jpeg:https://www.osnabruecker-kanu-club.de/wp-content/uploads/2022/12/PXL_20221120_124047002-1.jpg
ORGANIZER;CN="Sandra Flohre":MAILTO:schriftwartin@osnabruecker-kanu-club.de
GEO:52.1549464;7.9693298
X-APPLE-STRUCTURED-LOCATION;VALUE=URI;X-ADDRESS=Hallenfreibad Lienen Holperdorp Str. 37 Lienen 49536 Deutschland;X-APPLE-RADIUS=500;X-TITLE=Holperdorp Str. 37:geo:7.9693298,52.1549464
END:VEVENT
BEGIN:VEVENT
DTSTART;TZID=Europe/Berlin:20241019T180000
DTEND;TZID=Europe/Berlin:20241019T210000
DTSTAMP:20260420T030919
CREATED:20241001T134600Z
LAST-MODIFIED:20241001T135007Z
UID:10006852-1729360800-1729371600@www.osnabruecker-kanu-club.de
SUMMARY:Angeleitetes Rollentraining mit Andi & Alex
DESCRIPTION:Das angeleitete Rollentraining von Andi und Alex richtet sich an alle Vereinsmitglieder\, die die Rolle zum ersten Mal erlernen wollen oder ihre Rolle weiter trainieren möchten. Dieses Rollentraining ist als einzelner Rollentermin möglich oder auch als aufbauendes Training an mehreren Terminen. Deswegen müsst ihr euch für jeden Termin seperat anmelden. \nEintritt Hallenbad: Erwachsene: 6€\, Kinder: 4€ \nDie Anmeldung wird ab Freitag\, 4.10. 18:00 Uhr freigeschaltet.
URL:https://www.osnabruecker-kanu-club.de/event/angeleitetes-rollentraining-mit-andi-alex/
LOCATION:Hallenfreibad Lienen\, Holperdorp Str. 37\, Lienen\, 49536\, Deutschland
CATEGORIES:Hallenbadtraining,Rollentraining,Veranstaltungen
ATTACH;FMTTYPE=image/jpeg:https://www.osnabruecker-kanu-club.de/wp-content/uploads/2021/12/AlexAndi-e1640119558396.jpeg
ORGANIZER;CN="Alex & Andi":MAILTO:a.gembruch@gmx.de
GEO:52.1549464;7.9693298
X-APPLE-STRUCTURED-LOCATION;VALUE=URI;X-ADDRESS=Hallenfreibad Lienen Holperdorp Str. 37 Lienen 49536 Deutschland;X-APPLE-RADIUS=500;X-TITLE=Holperdorp Str. 37:geo:7.9693298,52.1549464
END:VEVENT
BEGIN:VEVENT
DTSTART;TZID=Europe/Berlin:20241019T180000
DTEND;TZID=Europe/Berlin:20241019T210000
DTSTAMP:20260420T030920
CREATED:20241002T095605Z
LAST-MODIFIED:20241004T131528Z
UID:10006857-1729360800-1729371600@www.osnabruecker-kanu-club.de
SUMMARY:Aufbauendes Rollentraining mit Rolf
DESCRIPTION:Das aufbauende Rollentraining bei Rolf richtet sich an Vereinsmitglieder\, die die Rolle zum ersten Mal erlernen wollen oder ihre Rolle weiter trainieren möchten. Das Training besteht aus drei Terminen (19.10.\, 27.10.\, 10.11.)\, diese bauen aufeinander auf. Wenn du dich zum ersten Rollentermin anmeldest\, bist du auch für die beiden weiteren Termine bei Rolf angemeldet. \nEintritt Hallenbad: Erwachsene: 6€\, Kinder: 4€
URL:https://www.osnabruecker-kanu-club.de/event/aufbauendes-rollentraining-mit-rolf/
LOCATION:Hallenfreibad Lienen\, Holperdorp Str. 37\, Lienen\, 49536\, Deutschland
CATEGORIES:Hallenbadtraining,Rollentraining,Veranstaltungen
ATTACH;FMTTYPE=image/jpeg:https://www.osnabruecker-kanu-club.de/wp-content/uploads/2024/10/IMG-20241004-WA00002.jpg
ORGANIZER;CN="Rolf Doliner (OKC)":MAILTO:r.doliner@gmx.de
GEO:52.1549464;7.9693298
X-APPLE-STRUCTURED-LOCATION;VALUE=URI;X-ADDRESS=Hallenfreibad Lienen Holperdorp Str. 37 Lienen 49536 Deutschland;X-APPLE-RADIUS=500;X-TITLE=Holperdorp Str. 37:geo:7.9693298,52.1549464
END:VEVENT
BEGIN:VEVENT
DTSTART;TZID=Europe/Berlin:20241020T110000
DTEND;TZID=Europe/Berlin:20241020T170000
DTSTAMP:20260420T030920
CREATED:20241003T105857Z
LAST-MODIFIED:20241003T105857Z
UID:10006863-1729422000-1729443600@www.osnabruecker-kanu-club.de
SUMMARY:Bogenschießen zum Ausprobieren
DESCRIPTION:Uwe hat für euch eine Fahrt zum Volltreffer nach Venne organisiert. Der Volltreffer ist ein 3D-Parcours zum Bogenschießen und befindet sich auf einem großen Wald- und Wiesenareal. Der Parcours beherbergt rund 30 Tierattrappen als Ziele mit verschiedenen Schwierigkeitsgraden. \nUhrzeit und Treffpunkt: 11:00 Uhr direkt am Volltreffer in Venne\nAdresse: Hunteburger Straße 25\, Ostercappeln-Venne\nKosten: Preis für den Parcours: 12€ pro Person mit eigenem Equipment\, für Leihbögen und Pfeile kommen noch einmal 10€ hinzu.\nAnsprechpartner: Uwe \nFahrgemeinschaften können nach Absprache vom OKC aus gebildet werden. \nInternetseite zur näheren Information über die Location: https://www.volltreffer-venne.de/bogenschiessen \n 
URL:https://www.osnabruecker-kanu-club.de/event/bogenschiessen-zum-ausprobieren/
LOCATION:Osnabrücker Kanu-Club (OKC)\, Die Eversburg 58\, Osnabrück\, 49090\, Deutschland
CATEGORIES:sonstige Veranstaltungen,Veranstaltungen
ATTACH;FMTTYPE=image/jpeg:https://www.osnabruecker-kanu-club.de/wp-content/uploads/2024/10/target-459833_1280.jpg
ORGANIZER;CN="Osnabr%C3%BCcker Kanu-Club (OKC)":MAILTO:kontakt@osnabruecker-kanu-club.de
GEO:52.3101755;7.9988733
X-APPLE-STRUCTURED-LOCATION;VALUE=URI;X-ADDRESS=Osnabrücker Kanu-Club (OKC) Die Eversburg 58 Osnabrück 49090 Deutschland;X-APPLE-RADIUS=500;X-TITLE=Die Eversburg 58:geo:7.9988733,52.3101755
END:VEVENT
BEGIN:VEVENT
DTSTART;TZID=Europe/Berlin:20241023T180000
DTEND;TZID=Europe/Berlin:20241023T190000
DTSTAMP:20260420T030920
CREATED:20231005T064730Z
LAST-MODIFIED:20241113T125733Z
UID:10006386-1729706400-1729710000@www.osnabruecker-kanu-club.de
SUMMARY:Bellicon-Training
DESCRIPTION:Beim Bellicon-Training handelt es sich um ein intensives Fitnessprogramm mit vielfältigen Übungskombinationen auf dem Trampolin. Es steigert die Ausdauer\, verbessert die Koordination\, stärkt die Muskeln und strafft nebenbei den ganzen Körper. Das Workout ist ganzheitlich und gelenkschonend. \nBenötigte Ausrüstung: Stopper-Socken \nAnmeldung bitte über https://xoyondo.com/dp/ue8rjfcGK4TyRWA  \nBitte gibt beim Ausfüllen der Anmeldung deinen Vor- und Nachnamen sowie deine Emailadresse an\, damit Verena im Fall des Falles mit dir in Kontakt treten kann\, z.B.\, wenn sie einen Termin kurzfristig absagen muss. Noch besser klappt es mit solchen An- bzw. Absagen\, wenn du ihrer Signal-Gruppe „Hoppers“ beitrittst. \nUm der Signal-Gruppe beizutreten\, klicke auf das Symbol:   \nRückfragen an Verena gerne auch per Mail (verenaweidner@gmx.de) oder per Telefon (0151 56003631).
URL:https://www.osnabruecker-kanu-club.de/event/bellicon-training-11-2-2/2024-10-23/
LOCATION:Osnabrücker Ruderverein (ORV)\, Glückaufstr. 16\, Osnabrück\, 49090\, Deutschland
CATEGORIES:Bellicon-Training,Gesundheitssport
ATTACH;FMTTYPE=image/jpeg:https://www.osnabruecker-kanu-club.de/wp-content/uploads/2023/01/bellicon.jpg
ORGANIZER;CN="Verena Weidner":MAILTO:verenaweidner@gmx.de
GEO:52.3097006;8.0003232
X-APPLE-STRUCTURED-LOCATION;VALUE=URI;X-ADDRESS=Osnabrücker Ruderverein (ORV) Glückaufstr. 16 Osnabrück 49090 Deutschland;X-APPLE-RADIUS=500;X-TITLE=Glückaufstr. 16:geo:8.0003232,52.3097006
END:VEVENT
BEGIN:VEVENT
DTSTART;TZID=Europe/Berlin:20241024T180000
DTEND;TZID=Europe/Berlin:20241024T200000
DTSTAMP:20260420T030920
CREATED:20240510T120234Z
LAST-MODIFIED:20240510T120234Z
UID:10006809-1729792800-1729800000@www.osnabruecker-kanu-club.de
SUMMARY:Clubabend
DESCRIPTION:Gemeinsames Zusammensitzen und Austauschen am Bootshaus. Wer Lust hat\, geht vorher eine Runde paddeln.
URL:https://www.osnabruecker-kanu-club.de/event/clubabend-2/2024-10-24/
LOCATION:Osnabrücker Kanu-Club (OKC)\, Die Eversburg 58\, Osnabrück\, 49090\, Deutschland
CATEGORIES:Clubabend
ORGANIZER;CN="Osnabr%C3%BCcker Kanu-Club (OKC)":MAILTO:kontakt@osnabruecker-kanu-club.de
GEO:52.3101755;7.9988733
X-APPLE-STRUCTURED-LOCATION;VALUE=URI;X-ADDRESS=Osnabrücker Kanu-Club (OKC) Die Eversburg 58 Osnabrück 49090 Deutschland;X-APPLE-RADIUS=500;X-TITLE=Die Eversburg 58:geo:7.9988733,52.3101755
END:VEVENT
BEGIN:VEVENT
DTSTART;TZID=Europe/Berlin:20241024T193000
DTEND;TZID=Europe/Berlin:20241024T220000
DTSTAMP:20260420T030920
CREATED:20241017T175253Z
LAST-MODIFIED:20241017T175253Z
UID:10006876-1729798200-1729807200@www.osnabruecker-kanu-club.de
SUMMARY:Vorstandssitzung
DESCRIPTION:Heute tagt der Vorstand des OKC im Clubraum. Die Vorstandssitzung ist öffentlich.
URL:https://www.osnabruecker-kanu-club.de/event/vorstandssitzung-4-2/2024-10-24/
LOCATION:Osnabrücker Kanu-Club (OKC)\, Die Eversburg 58\, Osnabrück\, 49090\, Deutschland
CATEGORIES:sonstige Veranstaltungen
ORGANIZER;CN="Osnabr%C3%BCcker Kanu-Club (OKC)":MAILTO:kontakt@osnabruecker-kanu-club.de
GEO:52.3101755;7.9988733
X-APPLE-STRUCTURED-LOCATION;VALUE=URI;X-ADDRESS=Osnabrücker Kanu-Club (OKC) Die Eversburg 58 Osnabrück 49090 Deutschland;X-APPLE-RADIUS=500;X-TITLE=Die Eversburg 58:geo:7.9988733,52.3101755
END:VEVENT
BEGIN:VEVENT
DTSTART;TZID=Europe/Berlin:20241027T130000
DTEND;TZID=Europe/Berlin:20241027T160000
DTSTAMP:20260420T030920
CREATED:20241001T125410Z
LAST-MODIFIED:20241001T125644Z
UID:10006849-1730034000-1730044800@www.osnabruecker-kanu-club.de
SUMMARY:Hallenbadzeit - freies Training
DESCRIPTION:Wenn du mit ins Hallenbad kommen möchtest\, aber nicht zu einem der angeleiteten Rollentrainings angemeldet bist\, dann melde dich bitte hier zur besseren Übersicht für das freie Training im Hallenbad an. Wir starten um 18 Uhr im Hallenfreibad Lienen (Holperdorper Straße 39\, 49536 Lienen). \nEintritt: Erwachsene: 6€\, Kinder:4€
URL:https://www.osnabruecker-kanu-club.de/event/hallenbadzeit-freies-training-2/
LOCATION:Hallenfreibad Lienen\, Holperdorp Str. 37\, Lienen\, 49536\, Deutschland
CATEGORIES:Bellicon-Training,Hallenbadtraining,Paddeltreff,Rollentraining,Veranstaltungen
ATTACH;FMTTYPE=image/jpeg:https://www.osnabruecker-kanu-club.de/wp-content/uploads/2022/12/PXL_20221120_124047002-1.jpg
ORGANIZER;CN="Sandra Flohre":MAILTO:schriftwartin@osnabruecker-kanu-club.de
GEO:52.1549464;7.9693298
X-APPLE-STRUCTURED-LOCATION;VALUE=URI;X-ADDRESS=Hallenfreibad Lienen Holperdorp Str. 37 Lienen 49536 Deutschland;X-APPLE-RADIUS=500;X-TITLE=Holperdorp Str. 37:geo:7.9693298,52.1549464
END:VEVENT
BEGIN:VEVENT
DTSTART;TZID=Europe/Berlin:20241027T130000
DTEND;TZID=Europe/Berlin:20241027T160000
DTSTAMP:20260420T030920
CREATED:20241001T135658Z
LAST-MODIFIED:20241001T135658Z
UID:10006853-1730034000-1730044800@www.osnabruecker-kanu-club.de
SUMMARY:Angeleitetes Rollentraining mit Andi & Alex
DESCRIPTION:Das angeleitete Rollentraining von Andi und Alex richtet sich an alle Vereinsmitglieder\, die die Rolle zum ersten Mal erlernen wollen oder ihre Rolle weiter trainieren möchten. Dieses Rollentraining ist als einzelner Rollentermin möglich oder auch als aufbauendes Training an mehreren Terminen. Deswegen müsst ihr euch für jeden Termin seperat anmelden. \nEintritt Hallenbad: Erwachsene: 6€\, Kinder: 4€ \nDie Anmeldung wird ab Freitag\, 4.10. 18:00 Uhr freigeschaltet.
URL:https://www.osnabruecker-kanu-club.de/event/angeleitetes-rollentraining-mit-andi-alex-2/
LOCATION:Hallenfreibad Lienen\, Holperdorp Str. 37\, Lienen\, 49536\, Deutschland
CATEGORIES:Hallenbadtraining,Rollentraining,Veranstaltungen
ATTACH;FMTTYPE=image/jpeg:https://www.osnabruecker-kanu-club.de/wp-content/uploads/2021/12/AlexAndi-e1640119558396.jpeg
ORGANIZER;CN="Alex & Andi":MAILTO:a.gembruch@gmx.de
GEO:52.1549464;7.9693298
X-APPLE-STRUCTURED-LOCATION;VALUE=URI;X-ADDRESS=Hallenfreibad Lienen Holperdorp Str. 37 Lienen 49536 Deutschland;X-APPLE-RADIUS=500;X-TITLE=Holperdorp Str. 37:geo:7.9693298,52.1549464
END:VEVENT
BEGIN:VEVENT
DTSTART;TZID=Europe/Berlin:20241027T130000
DTEND;TZID=Europe/Berlin:20241027T160000
DTSTAMP:20260420T030920
CREATED:20241002T100133Z
LAST-MODIFIED:20241004T131649Z
UID:10006858-1730034000-1730044800@www.osnabruecker-kanu-club.de
SUMMARY:Aufbauendes Rollentraining mit Rolf
DESCRIPTION:Das aufbauende Rollentraining bei Rolf richtet sich an Vereinsmitglieder\, die die Rolle zum ersten Mal erlernen wollen oder ihre Rolle weiter trainieren möchten. Das Training besteht aus drei Terminen (19.10.\, 27.10.\, 10.11.)\, diese bauen aufeinander auf. Wenn du dich zum ersten Rollentermin anmeldest\, bist du auch für die beiden weiteren Termine bei Rolf angemeldet. \nEintritt Hallenbad: Erwachsene: 6€\, Kinder: 4€
URL:https://www.osnabruecker-kanu-club.de/event/aufbauendes-rollentraining-mit-rolf-2/2024-10-27/
LOCATION:Hallenfreibad Lienen\, Holperdorp Str. 37\, Lienen\, 49536\, Deutschland
CATEGORIES:Hallenbadtraining,Rollentraining
ATTACH;FMTTYPE=image/jpeg:https://www.osnabruecker-kanu-club.de/wp-content/uploads/2024/10/IMG-20241004-WA00002.jpg
ORGANIZER;CN="Rolf Doliner (OKC)":MAILTO:r.doliner@gmx.de
GEO:52.1549464;7.9693298
X-APPLE-STRUCTURED-LOCATION;VALUE=URI;X-ADDRESS=Hallenfreibad Lienen Holperdorp Str. 37 Lienen 49536 Deutschland;X-APPLE-RADIUS=500;X-TITLE=Holperdorp Str. 37:geo:7.9693298,52.1549464
END:VEVENT
BEGIN:VEVENT
DTSTART;TZID=Europe/Berlin:20241027T130000
DTEND;TZID=Europe/Berlin:20241027T160000
DTSTAMP:20260420T030920
CREATED:20241002T101828Z
LAST-MODIFIED:20241002T101828Z
UID:10006860-1730034000-1730044800@www.osnabruecker-kanu-club.de
SUMMARY:Aufbauendes Rollentraining bei Kai
DESCRIPTION:Das aufbauende Rollentraining bei Kai richtet sich an Vereinsmitglieder\, die die Rolle zum ersten Mal erlernen wollen oder ihre Rolle weiter trainieren möchten. Das Training besteht aus drei Terminen (27.10.\, 2.11.\, 10.11.)\, diese bauen aufeinander auf. Wenn du dich zum ersten Rollentermin anmeldest\, bist du auch für die beiden weiteren Termine bei Kai angemeldet. \nEintritt Hallenbad: Erwachsene: 6€\, Kinder: 4€
URL:https://www.osnabruecker-kanu-club.de/event/aufbauendes-rollentraining-bei-kai/
LOCATION:Hallenfreibad Lienen\, Holperdorp Str. 37\, Lienen\, 49536\, Deutschland
CATEGORIES:Hallenbadtraining,Rollentraining,Veranstaltungen
ATTACH;FMTTYPE=image/jpeg:https://www.osnabruecker-kanu-club.de/wp-content/uploads/2024/10/DSCF0358-scaled.jpg
ORGANIZER;CN="Kai Moranz":MAILTO:kai.moranz@outlook.de
GEO:52.1549464;7.9693298
X-APPLE-STRUCTURED-LOCATION;VALUE=URI;X-ADDRESS=Hallenfreibad Lienen Holperdorp Str. 37 Lienen 49536 Deutschland;X-APPLE-RADIUS=500;X-TITLE=Holperdorp Str. 37:geo:7.9693298,52.1549464
END:VEVENT
BEGIN:VEVENT
DTSTART;TZID=Europe/Berlin:20241030T180000
DTEND;TZID=Europe/Berlin:20241030T190000
DTSTAMP:20260420T030920
CREATED:20231005T064730Z
LAST-MODIFIED:20241113T125733Z
UID:10006387-1730311200-1730314800@www.osnabruecker-kanu-club.de
SUMMARY:Bellicon-Training
DESCRIPTION:Beim Bellicon-Training handelt es sich um ein intensives Fitnessprogramm mit vielfältigen Übungskombinationen auf dem Trampolin. Es steigert die Ausdauer\, verbessert die Koordination\, stärkt die Muskeln und strafft nebenbei den ganzen Körper. Das Workout ist ganzheitlich und gelenkschonend. \nBenötigte Ausrüstung: Stopper-Socken \nAnmeldung bitte über https://xoyondo.com/dp/ue8rjfcGK4TyRWA  \nBitte gibt beim Ausfüllen der Anmeldung deinen Vor- und Nachnamen sowie deine Emailadresse an\, damit Verena im Fall des Falles mit dir in Kontakt treten kann\, z.B.\, wenn sie einen Termin kurzfristig absagen muss. Noch besser klappt es mit solchen An- bzw. Absagen\, wenn du ihrer Signal-Gruppe „Hoppers“ beitrittst. \nUm der Signal-Gruppe beizutreten\, klicke auf das Symbol:   \nRückfragen an Verena gerne auch per Mail (verenaweidner@gmx.de) oder per Telefon (0151 56003631).
URL:https://www.osnabruecker-kanu-club.de/event/bellicon-training-11-2-2/2024-10-30/
LOCATION:Osnabrücker Ruderverein (ORV)\, Glückaufstr. 16\, Osnabrück\, 49090\, Deutschland
CATEGORIES:Bellicon-Training,Gesundheitssport
ATTACH;FMTTYPE=image/jpeg:https://www.osnabruecker-kanu-club.de/wp-content/uploads/2023/01/bellicon.jpg
ORGANIZER;CN="Verena Weidner":MAILTO:verenaweidner@gmx.de
GEO:52.3097006;8.0003232
X-APPLE-STRUCTURED-LOCATION;VALUE=URI;X-ADDRESS=Osnabrücker Ruderverein (ORV) Glückaufstr. 16 Osnabrück 49090 Deutschland;X-APPLE-RADIUS=500;X-TITLE=Glückaufstr. 16:geo:8.0003232,52.3097006
END:VEVENT
BEGIN:VEVENT
DTSTART;TZID=Europe/Berlin:20241031T093000
DTEND;TZID=Europe/Berlin:20241031T170000
DTSTAMP:20260420T030920
CREATED:20241021T072652Z
LAST-MODIFIED:20241021T072652Z
UID:10006903-1730367000-1730394000@www.osnabruecker-kanu-club.de
SUMMARY:Fahrt auf dem Dümmer
DESCRIPTION:Es ist Feiertag in Niedersachsen und der letzte Tag in diesem Jahr\, an dem wir auf dem Dümmer fahren dürfen. Deswegen wollen wir diese Chance nutzen. Wir treffen uns um 9:30 Uhr zum Boote Laden am Verein. Meldet euch gerne unten an\, wenn ihr mitfahren wollt. Wer den Hänger ziehen kann\, meldet sich bitte einmal bei mir per Signal oder Email (wanderwartin@osnabruecker-kanu-club.de). Länge der Tour: ca.12km. \nVoraussetzungen: Der Wassertemperatur entsprechende Kleidung\, also mindestens Longjohn\, Neoschuhe\, Paddeljacke mit Neoshirt. Schwimmweste ist Pflicht. Beherrschen des Ausstieges aus dem gekenterten Kajak mit Partnerrettung.
URL:https://www.osnabruecker-kanu-club.de/event/fahrt-auf-dem-duemmer/
LOCATION:Osnabrücker Kanu-Club (OKC)\, Die Eversburg 58\, Osnabrück\, 49090\, Deutschland
CATEGORIES:Touren,Veranstaltungen
ATTACH;FMTTYPE=image/jpeg:https://www.osnabruecker-kanu-club.de/wp-content/uploads/2023/10/ocean-3762815_1280.jpg
ORGANIZER;CN="Daria":MAILTO:kanutrainerin.daria@gmail.com
GEO:52.3101755;7.9988733
X-APPLE-STRUCTURED-LOCATION;VALUE=URI;X-ADDRESS=Osnabrücker Kanu-Club (OKC) Die Eversburg 58 Osnabrück 49090 Deutschland;X-APPLE-RADIUS=500;X-TITLE=Die Eversburg 58:geo:7.9988733,52.3101755
END:VEVENT
BEGIN:VEVENT
DTSTART;TZID=Europe/Berlin:20241031T180000
DTEND;TZID=Europe/Berlin:20241031T200000
DTSTAMP:20260420T030920
CREATED:20240510T120234Z
LAST-MODIFIED:20240510T120234Z
UID:10006810-1730397600-1730404800@www.osnabruecker-kanu-club.de
SUMMARY:Clubabend
DESCRIPTION:Gemeinsames Zusammensitzen und Austauschen am Bootshaus. Wer Lust hat\, geht vorher eine Runde paddeln.
URL:https://www.osnabruecker-kanu-club.de/event/clubabend-2/2024-10-31/
LOCATION:Osnabrücker Kanu-Club (OKC)\, Die Eversburg 58\, Osnabrück\, 49090\, Deutschland
CATEGORIES:Clubabend
ORGANIZER;CN="Osnabr%C3%BCcker Kanu-Club (OKC)":MAILTO:kontakt@osnabruecker-kanu-club.de
GEO:52.3101755;7.9988733
X-APPLE-STRUCTURED-LOCATION;VALUE=URI;X-ADDRESS=Osnabrücker Kanu-Club (OKC) Die Eversburg 58 Osnabrück 49090 Deutschland;X-APPLE-RADIUS=500;X-TITLE=Die Eversburg 58:geo:7.9988733,52.3101755
END:VEVENT
END:VCALENDAR