BEGIN:VCALENDAR
VERSION:2.0
PRODID:-//Osnabrücker Kanu-Club von 1926 e.V.. - ECPv6.15.20//NONSGML v1.0//EN
CALSCALE:GREGORIAN
METHOD:PUBLISH
X-ORIGINAL-URL:https://www.osnabruecker-kanu-club.de
X-WR-CALDESC:Veranstaltungen für Osnabrücker Kanu-Club von 1926 e.V..
REFRESH-INTERVAL;VALUE=DURATION:PT1H
X-Robots-Tag:noindex
X-PUBLISHED-TTL:PT1H
BEGIN:VTIMEZONE
TZID:Europe/Berlin
BEGIN:DAYLIGHT
TZOFFSETFROM:+0100
TZOFFSETTO:+0200
TZNAME:CEST
DTSTART:20220327T010000
END:DAYLIGHT
BEGIN:STANDARD
TZOFFSETFROM:+0200
TZOFFSETTO:+0100
TZNAME:CET
DTSTART:20221030T010000
END:STANDARD
BEGIN:DAYLIGHT
TZOFFSETFROM:+0100
TZOFFSETTO:+0200
TZNAME:CEST
DTSTART:20230326T010000
END:DAYLIGHT
BEGIN:STANDARD
TZOFFSETFROM:+0200
TZOFFSETTO:+0100
TZNAME:CET
DTSTART:20231029T010000
END:STANDARD
BEGIN:DAYLIGHT
TZOFFSETFROM:+0100
TZOFFSETTO:+0200
TZNAME:CEST
DTSTART:20240331T010000
END:DAYLIGHT
BEGIN:STANDARD
TZOFFSETFROM:+0200
TZOFFSETTO:+0100
TZNAME:CET
DTSTART:20241027T010000
END:STANDARD
END:VTIMEZONE
BEGIN:VEVENT
DTSTART;TZID=Europe/Berlin:20230529T130000
DTEND;TZID=Europe/Berlin:20230529T180000
DTSTAMP:20260422T105909
CREATED:20230515T061744Z
LAST-MODIFIED:20230515T062053Z
UID:10006084-1685365200-1685383200@www.osnabruecker-kanu-club.de
SUMMARY:Mühlentag an der Mühle Bohle
DESCRIPTION:Auch in diesem Jahr wird der OKC auf dem Mühlentag an der Mühle Bohle in Wersen vertreten sein und den kleinen und großen Gästen einen kurzen Spaß im Kajak bereiten. Zudem erwarten dich ein großartiges Kuchenbuffet und viele weitere Leckereien. Ein Besuch lohnt sich.
URL:https://www.osnabruecker-kanu-club.de/event/muehlentag-an-der-muehle-bohle/
LOCATION:Mühle Bohle\, Mühlengrund 10\, Lotte\, 49504
CATEGORIES:sonstige Veranstaltungen,Veranstaltungen
ATTACH;FMTTYPE=image/jpeg:https://www.osnabruecker-kanu-club.de/wp-content/uploads/2023/05/Screenshot-2023-05-15-081622.jpg
ORGANIZER;CN="Osnabr%C3%BCcker Kanu-Club (OKC)":MAILTO:kontakt@osnabruecker-kanu-club.de
END:VEVENT
END:VCALENDAR