BEGIN:VCALENDAR
VERSION:2.0
PRODID:-//Osnabrücker Kanu-Club von 1926 e.V.. - ECPv6.15.20//NONSGML v1.0//EN
CALSCALE:GREGORIAN
METHOD:PUBLISH
X-ORIGINAL-URL:https://www.osnabruecker-kanu-club.de
X-WR-CALDESC:Veranstaltungen für Osnabrücker Kanu-Club von 1926 e.V..
REFRESH-INTERVAL;VALUE=DURATION:PT1H
X-Robots-Tag:noindex
X-PUBLISHED-TTL:PT1H
BEGIN:VTIMEZONE
TZID:Europe/Berlin
BEGIN:DAYLIGHT
TZOFFSETFROM:+0100
TZOFFSETTO:+0200
TZNAME:CEST
DTSTART:20220327T010000
END:DAYLIGHT
BEGIN:STANDARD
TZOFFSETFROM:+0200
TZOFFSETTO:+0100
TZNAME:CET
DTSTART:20221030T010000
END:STANDARD
BEGIN:DAYLIGHT
TZOFFSETFROM:+0100
TZOFFSETTO:+0200
TZNAME:CEST
DTSTART:20230326T010000
END:DAYLIGHT
BEGIN:STANDARD
TZOFFSETFROM:+0200
TZOFFSETTO:+0100
TZNAME:CET
DTSTART:20231029T010000
END:STANDARD
BEGIN:DAYLIGHT
TZOFFSETFROM:+0100
TZOFFSETTO:+0200
TZNAME:CEST
DTSTART:20240331T010000
END:DAYLIGHT
BEGIN:STANDARD
TZOFFSETFROM:+0200
TZOFFSETTO:+0100
TZNAME:CET
DTSTART:20241027T010000
END:STANDARD
END:VTIMEZONE
BEGIN:VEVENT
DTSTART;TZID=Europe/Berlin:20230301T180000
DTEND;TZID=Europe/Berlin:20230301T190000
DTSTAMP:20260420T082320
CREATED:20230103T211245Z
LAST-MODIFIED:20230228T161816Z
UID:10005419-1677693600-1677697200@www.osnabruecker-kanu-club.de
SUMMARY:Bellicon-Training
DESCRIPTION:Beim Bellicon-Training handelt es sich um ein intensives Fitnessprogramm mit vielfältigen Übungskombinationen auf dem Trampolin. Es steigert die Ausdauer\, verbessert die Koordination\, stärkt die Muskeln und strafft nebenbei den ganzen Körper. Das Workout ist ganzheitlich und gelenkschonend. \nBenötigte Ausrüstung: Stopper-Socken \nAnmeldung bitte über https://xoyondo.com/dp/ue8rjfcGK4TyRWA  \nRückfragen gerne per Mail (verenaweidner@gmx.de) oder per Telefon (0151 56003631).
URL:https://www.osnabruecker-kanu-club.de/event/bellicon-training-11/2023-03-01/
LOCATION:Osnabrücker Kanu-Club (OKC)\, Die Eversburg 58\, Osnabrück\, 49090\, Deutschland
CATEGORIES:Bellicon-Training,Gesundheitssport
ATTACH;FMTTYPE=image/jpeg:https://www.osnabruecker-kanu-club.de/wp-content/uploads/2023/01/bellicon.jpg
ORGANIZER;CN="Verena Weidner":MAILTO:verenaweidner@gmx.de
GEO:52.3101755;7.9988733
X-APPLE-STRUCTURED-LOCATION;VALUE=URI;X-ADDRESS=Osnabrücker Kanu-Club (OKC) Die Eversburg 58 Osnabrück 49090 Deutschland;X-APPLE-RADIUS=500;X-TITLE=Die Eversburg 58:geo:7.9988733,52.3101755
END:VEVENT
BEGIN:VEVENT
DTSTART;TZID=Europe/Berlin:20230301T183000
DTEND;TZID=Europe/Berlin:20230301T194500
DTSTAMP:20260420T082320
CREATED:20230209T203253Z
LAST-MODIFIED:20230211T063645Z
UID:10005890-1677695400-1677699900@www.osnabruecker-kanu-club.de
SUMMARY:Yoga
DESCRIPTION:Beschreibung: Yoga Kurse\, für Anfänger bis Fortgeschrittene \nKursleitung: Barbara Pankoke \nOrt: Saal Osnabrücker Ruder-Verein (ab 15.3.2023 Saal WSV Osnabrück) 
URL:https://www.osnabruecker-kanu-club.de/event/yoga/
LOCATION:Osnabrücker Ruderverein (ORV)\, Glückaufstr. 16\, Osnabrück\, 49090\, Deutschland
CATEGORIES:Gesundheitssport
ATTACH;FMTTYPE=image/jpeg:https://www.osnabruecker-kanu-club.de/wp-content/uploads/2023/02/yoga-263673_960_720-e1675974726650.jpg
GEO:52.3097006;8.0003232
X-APPLE-STRUCTURED-LOCATION;VALUE=URI;X-ADDRESS=Osnabrücker Ruderverein (ORV) Glückaufstr. 16 Osnabrück 49090 Deutschland;X-APPLE-RADIUS=500;X-TITLE=Glückaufstr. 16:geo:8.0003232,52.3097006
END:VEVENT
BEGIN:VEVENT
DTSTART;TZID=Europe/Berlin:20230303T190000
DTEND;TZID=Europe/Berlin:20230303T200000
DTSTAMP:20260420T082320
CREATED:20230212T210917Z
LAST-MODIFIED:20230212T211222Z
UID:10005905-1677870000-1677873600@www.osnabruecker-kanu-club.de
SUMMARY:Aquafitness
DESCRIPTION:Beschreibung: Allgemeines Fitnesstraining im Bewegungsbad \nKursleitung: Willy Althaus \nOrt: Physiotherapie und Medi-Fitness an der Birkenallee\,  \nWeitere Informationen und Anmeldung  (für diesen und für Folgetermine) im Haupttermin. Diesen findest du HIER.
URL:https://www.osnabruecker-kanu-club.de/event/aquafitness-2/2023-03-03/
LOCATION:Physiotherapie und Medi-Fitness an der Birkenallee\, Birkenallee 11\, Osnabrück\, 49076\, Deutschland
CATEGORIES:Gesundheitssport
ATTACH;FMTTYPE=image/jpeg:https://www.osnabruecker-kanu-club.de/wp-content/uploads/2023/02/ladder-6799003_960_720-e1675975627739.jpg
ORGANIZER;CN="Willy Althaus":MAILTO:W.Althaus01@web.de
END:VEVENT
BEGIN:VEVENT
DTSTART;TZID=Europe/Berlin:20230306T190000
DTEND;TZID=Europe/Berlin:20230306T200000
DTSTAMP:20260420T082320
CREATED:20230211T064341Z
LAST-MODIFIED:20230211T064341Z
UID:10005900-1678129200-1678132800@www.osnabruecker-kanu-club.de
SUMMARY:Allgemeines Fitnesstraining
DESCRIPTION:Beschreibung: Training für den ganzen Körper\, Zirkeltraining mit Kleingeräten und Beweglichkeitstraining. \nKursleitung: Jana Rödecker (Physiotherapeutin) \nMitbringen: Handtuch zum Unterlegen\, saubere Hallenschuhe \nOrt: Gymnastikhalle Osnabrücker Ruder-Verein
URL:https://www.osnabruecker-kanu-club.de/event/allgemeines-fitnesstraining-2/
LOCATION:Osnabrücker Ruderverein (ORV)\, Glückaufstr. 16\, Osnabrück\, 49090\, Deutschland
CATEGORIES:Gesundheitssport
ATTACH;FMTTYPE=image/jpeg:https://www.osnabruecker-kanu-club.de/wp-content/uploads/2023/02/gym-1677220_960_720-e1675973894374.jpg
GEO:52.3097006;8.0003232
X-APPLE-STRUCTURED-LOCATION;VALUE=URI;X-ADDRESS=Osnabrücker Ruderverein (ORV) Glückaufstr. 16 Osnabrück 49090 Deutschland;X-APPLE-RADIUS=500;X-TITLE=Glückaufstr. 16:geo:8.0003232,52.3097006
END:VEVENT
BEGIN:VEVENT
DTSTART;TZID=Europe/Berlin:20230308T180000
DTEND;TZID=Europe/Berlin:20230308T190000
DTSTAMP:20260420T082320
CREATED:20230302T093719Z
LAST-MODIFIED:20230303T064015Z
UID:10005420-1678298400-1678302000@www.osnabruecker-kanu-club.de
SUMMARY:Bellicon-Training
DESCRIPTION:Beim Bellicon-Training handelt es sich um ein intensives Fitnessprogramm mit vielfältigen Übungskombinationen auf dem Trampolin. Es steigert die Ausdauer\, verbessert die Koordination\, stärkt die Muskeln und strafft nebenbei den ganzen Körper. Das Workout ist ganzheitlich und gelenkschonend. \nBenötigte Ausrüstung: Stopper-Socken \nAnmeldung bitte über https://xoyondo.com/dp/ue8rjfcGK4TyRWA  \nBitte gibt beim Ausfüllen der Anmeldung deinen Vor- und Nachnamen sowie deine Emailadresse an\, damit Verena im Fall des Falles mit dir in Kontakt treten kann\, z.B.\, wenn sie einen Termin kurzfristig absagen muss. Noch besser klappt es mit solchen An- bzw. Absagen\, wenn du ihrer Signal-Gruppe „Hoppers“ beitrittst. \nUm der Signal-Gruppe beizutreten\, klicke auf das Symbol:   \nRückfragen an Verena gerne auch per Mail (verenaweidner@gmx.de) oder per Telefon (0151 56003631).
URL:https://www.osnabruecker-kanu-club.de/event/bellicon-training-11-2/2023-03-08/
LOCATION:Osnabrücker Kanu-Club (OKC)\, Die Eversburg 58\, Osnabrück\, 49090\, Deutschland
CATEGORIES:Bellicon-Training,Gesundheitssport
ATTACH;FMTTYPE=image/jpeg:https://www.osnabruecker-kanu-club.de/wp-content/uploads/2023/01/bellicon.jpg
ORGANIZER;CN="Verena Weidner":MAILTO:verenaweidner@gmx.de
GEO:52.3101755;7.9988733
X-APPLE-STRUCTURED-LOCATION;VALUE=URI;X-ADDRESS=Osnabrücker Kanu-Club (OKC) Die Eversburg 58 Osnabrück 49090 Deutschland;X-APPLE-RADIUS=500;X-TITLE=Die Eversburg 58:geo:7.9988733,52.3101755
END:VEVENT
BEGIN:VEVENT
DTSTART;TZID=Europe/Berlin:20230308T183000
DTEND;TZID=Europe/Berlin:20230308T194500
DTSTAMP:20260420T082320
CREATED:20230211T062224Z
LAST-MODIFIED:20230211T063816Z
UID:10005894-1678300200-1678304700@www.osnabruecker-kanu-club.de
SUMMARY:Yoga
DESCRIPTION:Beschreibung: Yoga Kurse\, für Anfänger bis Fortgeschrittene \nKursleitung: Barbara Pankoke \nOrt: Saal Osnabrücker Ruder-Verein (ab 15.3.2023 Saal WSV Osnabrück) 
URL:https://www.osnabruecker-kanu-club.de/event/yoga-4/
LOCATION:Osnabrücker Ruderverein (ORV)\, Glückaufstr. 16\, Osnabrück\, 49090\, Deutschland
CATEGORIES:Gesundheitssport
ATTACH;FMTTYPE=image/jpeg:https://www.osnabruecker-kanu-club.de/wp-content/uploads/2023/02/yoga-263673_960_720-e1675974726650.jpg
GEO:52.3097006;8.0003232
X-APPLE-STRUCTURED-LOCATION;VALUE=URI;X-ADDRESS=Osnabrücker Ruderverein (ORV) Glückaufstr. 16 Osnabrück 49090 Deutschland;X-APPLE-RADIUS=500;X-TITLE=Glückaufstr. 16:geo:8.0003232,52.3097006
END:VEVENT
BEGIN:VEVENT
DTSTART;TZID=Europe/Berlin:20230310T190000
DTEND;TZID=Europe/Berlin:20230310T200000
DTSTAMP:20260420T082320
CREATED:20230212T210917Z
LAST-MODIFIED:20230212T211222Z
UID:10005906-1678474800-1678478400@www.osnabruecker-kanu-club.de
SUMMARY:Aquafitness
DESCRIPTION:Beschreibung: Allgemeines Fitnesstraining im Bewegungsbad \nKursleitung: Willy Althaus \nOrt: Physiotherapie und Medi-Fitness an der Birkenallee\,  \nWeitere Informationen und Anmeldung  (für diesen und für Folgetermine) im Haupttermin. Diesen findest du HIER.
URL:https://www.osnabruecker-kanu-club.de/event/aquafitness-2/2023-03-10/
LOCATION:Physiotherapie und Medi-Fitness an der Birkenallee\, Birkenallee 11\, Osnabrück\, 49076\, Deutschland
CATEGORIES:Gesundheitssport
ATTACH;FMTTYPE=image/jpeg:https://www.osnabruecker-kanu-club.de/wp-content/uploads/2023/02/ladder-6799003_960_720-e1675975627739.jpg
ORGANIZER;CN="Willy Althaus":MAILTO:W.Althaus01@web.de
END:VEVENT
BEGIN:VEVENT
DTSTART;TZID=Europe/Berlin:20230313T190000
DTEND;TZID=Europe/Berlin:20230313T200000
DTSTAMP:20260420T082320
CREATED:20230211T064504Z
LAST-MODIFIED:20230211T064504Z
UID:10005901-1678734000-1678737600@www.osnabruecker-kanu-club.de
SUMMARY:Allgemeines Fitnesstraining
DESCRIPTION:Beschreibung: Training für den ganzen Körper\, Zirkeltraining mit Kleingeräten und Beweglichkeitstraining. \nKursleitung: Jana Rödecker (Physiotherapeutin) \nMitbringen: Handtuch zum Unterlegen\, saubere Hallenschuhe \nOrt: Gymnastikhalle Osnabrücker Ruder-Verein
URL:https://www.osnabruecker-kanu-club.de/event/allgemeines-fitnesstraining-3/
LOCATION:Osnabrücker Ruderverein (ORV)\, Glückaufstr. 16\, Osnabrück\, 49090\, Deutschland
CATEGORIES:Gesundheitssport
ATTACH;FMTTYPE=image/jpeg:https://www.osnabruecker-kanu-club.de/wp-content/uploads/2023/02/gym-1677220_960_720-e1675973894374.jpg
GEO:52.3097006;8.0003232
X-APPLE-STRUCTURED-LOCATION;VALUE=URI;X-ADDRESS=Osnabrücker Ruderverein (ORV) Glückaufstr. 16 Osnabrück 49090 Deutschland;X-APPLE-RADIUS=500;X-TITLE=Glückaufstr. 16:geo:8.0003232,52.3097006
END:VEVENT
BEGIN:VEVENT
DTSTART;TZID=Europe/Berlin:20230315T180000
DTEND;TZID=Europe/Berlin:20230315T190000
DTSTAMP:20260420T082320
CREATED:20230302T093719Z
LAST-MODIFIED:20230303T064015Z
UID:10005421-1678903200-1678906800@www.osnabruecker-kanu-club.de
SUMMARY:Bellicon-Training
DESCRIPTION:Beim Bellicon-Training handelt es sich um ein intensives Fitnessprogramm mit vielfältigen Übungskombinationen auf dem Trampolin. Es steigert die Ausdauer\, verbessert die Koordination\, stärkt die Muskeln und strafft nebenbei den ganzen Körper. Das Workout ist ganzheitlich und gelenkschonend. \nBenötigte Ausrüstung: Stopper-Socken \nAnmeldung bitte über https://xoyondo.com/dp/ue8rjfcGK4TyRWA  \nBitte gibt beim Ausfüllen der Anmeldung deinen Vor- und Nachnamen sowie deine Emailadresse an\, damit Verena im Fall des Falles mit dir in Kontakt treten kann\, z.B.\, wenn sie einen Termin kurzfristig absagen muss. Noch besser klappt es mit solchen An- bzw. Absagen\, wenn du ihrer Signal-Gruppe „Hoppers“ beitrittst. \nUm der Signal-Gruppe beizutreten\, klicke auf das Symbol:   \nRückfragen an Verena gerne auch per Mail (verenaweidner@gmx.de) oder per Telefon (0151 56003631).
URL:https://www.osnabruecker-kanu-club.de/event/bellicon-training-11-2/2023-03-15/
LOCATION:Osnabrücker Kanu-Club (OKC)\, Die Eversburg 58\, Osnabrück\, 49090\, Deutschland
CATEGORIES:Bellicon-Training,Gesundheitssport
ATTACH;FMTTYPE=image/jpeg:https://www.osnabruecker-kanu-club.de/wp-content/uploads/2023/01/bellicon.jpg
ORGANIZER;CN="Verena Weidner":MAILTO:verenaweidner@gmx.de
GEO:52.3101755;7.9988733
X-APPLE-STRUCTURED-LOCATION;VALUE=URI;X-ADDRESS=Osnabrücker Kanu-Club (OKC) Die Eversburg 58 Osnabrück 49090 Deutschland;X-APPLE-RADIUS=500;X-TITLE=Die Eversburg 58:geo:7.9988733,52.3101755
END:VEVENT
BEGIN:VEVENT
DTSTART;TZID=Europe/Berlin:20230315T183000
DTEND;TZID=Europe/Berlin:20230315T194500
DTSTAMP:20260420T082320
CREATED:20230211T062423Z
LAST-MODIFIED:20230211T063833Z
UID:10005895-1678905000-1678909500@www.osnabruecker-kanu-club.de
SUMMARY:Yoga
DESCRIPTION:Beschreibung: Yoga Kurse\, für Anfänger bis Fortgeschrittene \nKursleitung: Barbara Pankoke \nOrt: Saal Wassersportverein Osnabrück
URL:https://www.osnabruecker-kanu-club.de/event/yoga-5/
LOCATION:Wassersportverein Osnabrück (WSV)\, Die Eversburg 60\, Osnabrück\, 49090\, Deutschland
CATEGORIES:Gesundheitssport
ATTACH;FMTTYPE=image/jpeg:https://www.osnabruecker-kanu-club.de/wp-content/uploads/2023/02/yoga-263673_960_720-e1675974726650.jpg
GEO:52.3103545;7.9990074
X-APPLE-STRUCTURED-LOCATION;VALUE=URI;X-ADDRESS=Wassersportverein Osnabrück (WSV) Die Eversburg 60 Osnabrück 49090 Deutschland;X-APPLE-RADIUS=500;X-TITLE=Die Eversburg 60:geo:7.9990074,52.3103545
END:VEVENT
BEGIN:VEVENT
DTSTART;TZID=Europe/Berlin:20230317T190000
DTEND;TZID=Europe/Berlin:20230317T200000
DTSTAMP:20260420T082320
CREATED:20230212T210917Z
LAST-MODIFIED:20230212T211222Z
UID:10005907-1679079600-1679083200@www.osnabruecker-kanu-club.de
SUMMARY:Aquafitness
DESCRIPTION:Beschreibung: Allgemeines Fitnesstraining im Bewegungsbad \nKursleitung: Willy Althaus \nOrt: Physiotherapie und Medi-Fitness an der Birkenallee\,  \nWeitere Informationen und Anmeldung  (für diesen und für Folgetermine) im Haupttermin. Diesen findest du HIER.
URL:https://www.osnabruecker-kanu-club.de/event/aquafitness-2/2023-03-17/
LOCATION:Physiotherapie und Medi-Fitness an der Birkenallee\, Birkenallee 11\, Osnabrück\, 49076\, Deutschland
CATEGORIES:Gesundheitssport
ATTACH;FMTTYPE=image/jpeg:https://www.osnabruecker-kanu-club.de/wp-content/uploads/2023/02/ladder-6799003_960_720-e1675975627739.jpg
ORGANIZER;CN="Willy Althaus":MAILTO:W.Althaus01@web.de
END:VEVENT
BEGIN:VEVENT
DTSTART;TZID=Europe/Berlin:20230322T180000
DTEND;TZID=Europe/Berlin:20230322T190000
DTSTAMP:20260420T082320
CREATED:20230302T093719Z
LAST-MODIFIED:20230303T064015Z
UID:10005422-1679508000-1679511600@www.osnabruecker-kanu-club.de
SUMMARY:Bellicon-Training
DESCRIPTION:Beim Bellicon-Training handelt es sich um ein intensives Fitnessprogramm mit vielfältigen Übungskombinationen auf dem Trampolin. Es steigert die Ausdauer\, verbessert die Koordination\, stärkt die Muskeln und strafft nebenbei den ganzen Körper. Das Workout ist ganzheitlich und gelenkschonend. \nBenötigte Ausrüstung: Stopper-Socken \nAnmeldung bitte über https://xoyondo.com/dp/ue8rjfcGK4TyRWA  \nBitte gibt beim Ausfüllen der Anmeldung deinen Vor- und Nachnamen sowie deine Emailadresse an\, damit Verena im Fall des Falles mit dir in Kontakt treten kann\, z.B.\, wenn sie einen Termin kurzfristig absagen muss. Noch besser klappt es mit solchen An- bzw. Absagen\, wenn du ihrer Signal-Gruppe „Hoppers“ beitrittst. \nUm der Signal-Gruppe beizutreten\, klicke auf das Symbol:   \nRückfragen an Verena gerne auch per Mail (verenaweidner@gmx.de) oder per Telefon (0151 56003631).
URL:https://www.osnabruecker-kanu-club.de/event/bellicon-training-11-2/2023-03-22/
LOCATION:Osnabrücker Kanu-Club (OKC)\, Die Eversburg 58\, Osnabrück\, 49090\, Deutschland
CATEGORIES:Bellicon-Training,Gesundheitssport
ATTACH;FMTTYPE=image/jpeg:https://www.osnabruecker-kanu-club.de/wp-content/uploads/2023/01/bellicon.jpg
ORGANIZER;CN="Verena Weidner":MAILTO:verenaweidner@gmx.de
GEO:52.3101755;7.9988733
X-APPLE-STRUCTURED-LOCATION;VALUE=URI;X-ADDRESS=Osnabrücker Kanu-Club (OKC) Die Eversburg 58 Osnabrück 49090 Deutschland;X-APPLE-RADIUS=500;X-TITLE=Die Eversburg 58:geo:7.9988733,52.3101755
END:VEVENT
BEGIN:VEVENT
DTSTART;TZID=Europe/Berlin:20230322T183000
DTEND;TZID=Europe/Berlin:20230322T194500
DTSTAMP:20260420T082320
CREATED:20230211T062622Z
LAST-MODIFIED:20230211T063900Z
UID:10005896-1679509800-1679514300@www.osnabruecker-kanu-club.de
SUMMARY:Yoga
DESCRIPTION:Beschreibung: Yoga Kurse\, für Anfänger bis Fortgeschrittene \nKursleitung: Barbara Pankoke \nOrt: Saal Wassersportverein Osnabrück
URL:https://www.osnabruecker-kanu-club.de/event/yoga-6/
LOCATION:Wassersportverein Osnabrück (WSV)\, Die Eversburg 60\, Osnabrück\, 49090\, Deutschland
CATEGORIES:Gesundheitssport
ATTACH;FMTTYPE=image/jpeg:https://www.osnabruecker-kanu-club.de/wp-content/uploads/2023/02/yoga-263673_960_720-e1675974726650.jpg
GEO:52.3103545;7.9990074
X-APPLE-STRUCTURED-LOCATION;VALUE=URI;X-ADDRESS=Wassersportverein Osnabrück (WSV) Die Eversburg 60 Osnabrück 49090 Deutschland;X-APPLE-RADIUS=500;X-TITLE=Die Eversburg 60:geo:7.9990074,52.3103545
END:VEVENT
BEGIN:VEVENT
DTSTART;TZID=Europe/Berlin:20230324T190000
DTEND;TZID=Europe/Berlin:20230324T200000
DTSTAMP:20260420T082320
CREATED:20230212T210917Z
LAST-MODIFIED:20230212T211222Z
UID:10005960-1679684400-1679688000@www.osnabruecker-kanu-club.de
SUMMARY:Aquafitness
DESCRIPTION:Beschreibung: Allgemeines Fitnesstraining im Bewegungsbad \nKursleitung: Willy Althaus \nOrt: Physiotherapie und Medi-Fitness an der Birkenallee\,  \nWeitere Informationen und Anmeldung  (für diesen und für Folgetermine) im Haupttermin. Diesen findest du HIER.
URL:https://www.osnabruecker-kanu-club.de/event/aquafitness-2/2023-03-24/
LOCATION:Physiotherapie und Medi-Fitness an der Birkenallee\, Birkenallee 11\, Osnabrück\, 49076\, Deutschland
CATEGORIES:Gesundheitssport
ATTACH;FMTTYPE=image/jpeg:https://www.osnabruecker-kanu-club.de/wp-content/uploads/2023/02/ladder-6799003_960_720-e1675975627739.jpg
ORGANIZER;CN="Willy Althaus":MAILTO:W.Althaus01@web.de
END:VEVENT
BEGIN:VEVENT
DTSTART;TZID=Europe/Berlin:20230329T180000
DTEND;TZID=Europe/Berlin:20230329T190000
DTSTAMP:20260420T082320
CREATED:20230302T093719Z
LAST-MODIFIED:20230303T064015Z
UID:10005878-1680112800-1680116400@www.osnabruecker-kanu-club.de
SUMMARY:Bellicon-Training
DESCRIPTION:Beim Bellicon-Training handelt es sich um ein intensives Fitnessprogramm mit vielfältigen Übungskombinationen auf dem Trampolin. Es steigert die Ausdauer\, verbessert die Koordination\, stärkt die Muskeln und strafft nebenbei den ganzen Körper. Das Workout ist ganzheitlich und gelenkschonend. \nBenötigte Ausrüstung: Stopper-Socken \nAnmeldung bitte über https://xoyondo.com/dp/ue8rjfcGK4TyRWA  \nBitte gibt beim Ausfüllen der Anmeldung deinen Vor- und Nachnamen sowie deine Emailadresse an\, damit Verena im Fall des Falles mit dir in Kontakt treten kann\, z.B.\, wenn sie einen Termin kurzfristig absagen muss. Noch besser klappt es mit solchen An- bzw. Absagen\, wenn du ihrer Signal-Gruppe „Hoppers“ beitrittst. \nUm der Signal-Gruppe beizutreten\, klicke auf das Symbol:   \nRückfragen an Verena gerne auch per Mail (verenaweidner@gmx.de) oder per Telefon (0151 56003631).
URL:https://www.osnabruecker-kanu-club.de/event/bellicon-training-11-2/2023-03-29/
LOCATION:Osnabrücker Kanu-Club (OKC)\, Die Eversburg 58\, Osnabrück\, 49090\, Deutschland
CATEGORIES:Bellicon-Training,Gesundheitssport
ATTACH;FMTTYPE=image/jpeg:https://www.osnabruecker-kanu-club.de/wp-content/uploads/2023/01/bellicon.jpg
ORGANIZER;CN="Verena Weidner":MAILTO:verenaweidner@gmx.de
GEO:52.3101755;7.9988733
X-APPLE-STRUCTURED-LOCATION;VALUE=URI;X-ADDRESS=Osnabrücker Kanu-Club (OKC) Die Eversburg 58 Osnabrück 49090 Deutschland;X-APPLE-RADIUS=500;X-TITLE=Die Eversburg 58:geo:7.9988733,52.3101755
END:VEVENT
END:VCALENDAR