BEGIN:VCALENDAR
VERSION:2.0
PRODID:-//Osnabrücker Kanu-Club von 1926 e.V.. - ECPv6.15.20//NONSGML v1.0//EN
CALSCALE:GREGORIAN
METHOD:PUBLISH
X-ORIGINAL-URL:https://www.osnabruecker-kanu-club.de
X-WR-CALDESC:Veranstaltungen für Osnabrücker Kanu-Club von 1926 e.V..
REFRESH-INTERVAL;VALUE=DURATION:PT1H
X-Robots-Tag:noindex
X-PUBLISHED-TTL:PT1H
BEGIN:VTIMEZONE
TZID:Europe/Berlin
BEGIN:DAYLIGHT
TZOFFSETFROM:+0100
TZOFFSETTO:+0200
TZNAME:CEST
DTSTART:20220327T010000
END:DAYLIGHT
BEGIN:STANDARD
TZOFFSETFROM:+0200
TZOFFSETTO:+0100
TZNAME:CET
DTSTART:20221030T010000
END:STANDARD
BEGIN:DAYLIGHT
TZOFFSETFROM:+0100
TZOFFSETTO:+0200
TZNAME:CEST
DTSTART:20230326T010000
END:DAYLIGHT
BEGIN:STANDARD
TZOFFSETFROM:+0200
TZOFFSETTO:+0100
TZNAME:CET
DTSTART:20231029T010000
END:STANDARD
BEGIN:DAYLIGHT
TZOFFSETFROM:+0100
TZOFFSETTO:+0200
TZNAME:CEST
DTSTART:20240331T010000
END:DAYLIGHT
BEGIN:STANDARD
TZOFFSETFROM:+0200
TZOFFSETTO:+0100
TZNAME:CET
DTSTART:20241027T010000
END:STANDARD
END:VTIMEZONE
BEGIN:VEVENT
DTSTART;TZID=Europe/Berlin:20230412T183000
DTEND;TZID=Europe/Berlin:20230412T194500
DTSTAMP:20260420T030209
CREATED:20230211T063018Z
LAST-MODIFIED:20230211T063934Z
UID:10005897-1681324200-1681328700@www.osnabruecker-kanu-club.de
SUMMARY:Yoga
DESCRIPTION:Beschreibung: Yoga Kurse\, für Anfänger bis Fortgeschrittene \nKursleitung: Barbara Pankoke \nOrt: Saal Wassersportverein Osnabrück
URL:https://www.osnabruecker-kanu-club.de/event/yoga-7/
LOCATION:Wassersportverein Osnabrück (WSV)\, Die Eversburg 60\, Osnabrück\, 49090\, Deutschland
CATEGORIES:Gesundheitssport
ATTACH;FMTTYPE=image/jpeg:https://www.osnabruecker-kanu-club.de/wp-content/uploads/2023/02/yoga-263673_960_720-e1675974726650.jpg
GEO:52.3103545;7.9990074
X-APPLE-STRUCTURED-LOCATION;VALUE=URI;X-ADDRESS=Wassersportverein Osnabrück (WSV) Die Eversburg 60 Osnabrück 49090 Deutschland;X-APPLE-RADIUS=500;X-TITLE=Die Eversburg 60:geo:7.9990074,52.3103545
END:VEVENT
BEGIN:VEVENT
DTSTART;TZID=Europe/Berlin:20230414T190000
DTEND;TZID=Europe/Berlin:20230414T200000
DTSTAMP:20260420T030209
CREATED:20230212T210917Z
LAST-MODIFIED:20230212T211222Z
UID:10005911-1681498800-1681502400@www.osnabruecker-kanu-club.de
SUMMARY:Aquafitness
DESCRIPTION:Beschreibung: Allgemeines Fitnesstraining im Bewegungsbad \nKursleitung: Willy Althaus \nOrt: Physiotherapie und Medi-Fitness an der Birkenallee\,  \nWeitere Informationen und Anmeldung  (für diesen und für Folgetermine) im Haupttermin. Diesen findest du HIER.
URL:https://www.osnabruecker-kanu-club.de/event/aquafitness-2/2023-04-14/
LOCATION:Physiotherapie und Medi-Fitness an der Birkenallee\, Birkenallee 11\, Osnabrück\, 49076\, Deutschland
CATEGORIES:Gesundheitssport
ATTACH;FMTTYPE=image/jpeg:https://www.osnabruecker-kanu-club.de/wp-content/uploads/2023/02/ladder-6799003_960_720-e1675975627739.jpg
ORGANIZER;CN="Willy Althaus":MAILTO:W.Althaus01@web.de
END:VEVENT
BEGIN:VEVENT
DTSTART;TZID=Europe/Berlin:20230417T190000
DTEND;TZID=Europe/Berlin:20230417T200000
DTSTAMP:20260420T030209
CREATED:20230211T064603Z
LAST-MODIFIED:20230211T064603Z
UID:10005902-1681758000-1681761600@www.osnabruecker-kanu-club.de
SUMMARY:Allgemeines Fitnesstraining
DESCRIPTION:Beschreibung: Training für den ganzen Körper\, Zirkeltraining mit Kleingeräten und Beweglichkeitstraining. \nKursleitung: Jana Rödecker (Physiotherapeutin) \nMitbringen: Handtuch zum Unterlegen\, saubere Hallenschuhe \nOrt: Gymnastikhalle Osnabrücker Ruder-Verein
URL:https://www.osnabruecker-kanu-club.de/event/allgemeines-fitnesstraining-4/
LOCATION:Osnabrücker Ruderverein (ORV)\, Glückaufstr. 16\, Osnabrück\, 49090\, Deutschland
CATEGORIES:Gesundheitssport
ATTACH;FMTTYPE=image/jpeg:https://www.osnabruecker-kanu-club.de/wp-content/uploads/2023/02/gym-1677220_960_720-e1675973894374.jpg
GEO:52.3097006;8.0003232
X-APPLE-STRUCTURED-LOCATION;VALUE=URI;X-ADDRESS=Osnabrücker Ruderverein (ORV) Glückaufstr. 16 Osnabrück 49090 Deutschland;X-APPLE-RADIUS=500;X-TITLE=Glückaufstr. 16:geo:8.0003232,52.3097006
END:VEVENT
BEGIN:VEVENT
DTSTART;TZID=Europe/Berlin:20230419T180000
DTEND;TZID=Europe/Berlin:20230419T190000
DTSTAMP:20260420T030209
CREATED:20230302T093719Z
LAST-MODIFIED:20230303T064015Z
UID:10005881-1681927200-1681930800@www.osnabruecker-kanu-club.de
SUMMARY:Bellicon-Training
DESCRIPTION:Beim Bellicon-Training handelt es sich um ein intensives Fitnessprogramm mit vielfältigen Übungskombinationen auf dem Trampolin. Es steigert die Ausdauer\, verbessert die Koordination\, stärkt die Muskeln und strafft nebenbei den ganzen Körper. Das Workout ist ganzheitlich und gelenkschonend. \nBenötigte Ausrüstung: Stopper-Socken \nAnmeldung bitte über https://xoyondo.com/dp/ue8rjfcGK4TyRWA  \nBitte gibt beim Ausfüllen der Anmeldung deinen Vor- und Nachnamen sowie deine Emailadresse an\, damit Verena im Fall des Falles mit dir in Kontakt treten kann\, z.B.\, wenn sie einen Termin kurzfristig absagen muss. Noch besser klappt es mit solchen An- bzw. Absagen\, wenn du ihrer Signal-Gruppe „Hoppers“ beitrittst. \nUm der Signal-Gruppe beizutreten\, klicke auf das Symbol:   \nRückfragen an Verena gerne auch per Mail (verenaweidner@gmx.de) oder per Telefon (0151 56003631).
URL:https://www.osnabruecker-kanu-club.de/event/bellicon-training-11-2/2023-04-19/
LOCATION:Osnabrücker Kanu-Club (OKC)\, Die Eversburg 58\, Osnabrück\, 49090\, Deutschland
CATEGORIES:Bellicon-Training,Gesundheitssport
ATTACH;FMTTYPE=image/jpeg:https://www.osnabruecker-kanu-club.de/wp-content/uploads/2023/01/bellicon.jpg
ORGANIZER;CN="Verena Weidner":MAILTO:verenaweidner@gmx.de
GEO:52.3101755;7.9988733
X-APPLE-STRUCTURED-LOCATION;VALUE=URI;X-ADDRESS=Osnabrücker Kanu-Club (OKC) Die Eversburg 58 Osnabrück 49090 Deutschland;X-APPLE-RADIUS=500;X-TITLE=Die Eversburg 58:geo:7.9988733,52.3101755
END:VEVENT
BEGIN:VEVENT
DTSTART;TZID=Europe/Berlin:20230419T183000
DTEND;TZID=Europe/Berlin:20230419T194500
DTSTAMP:20260420T030209
CREATED:20230211T063117Z
LAST-MODIFIED:20230211T063955Z
UID:10005898-1681929000-1681933500@www.osnabruecker-kanu-club.de
SUMMARY:Yoga
DESCRIPTION:Beschreibung: Yoga Kurse\, für Anfänger bis Fortgeschrittene \nKursleitung: Barbara Pankoke \nOrt: Saal Wassersportverein Osnabrück
URL:https://www.osnabruecker-kanu-club.de/event/yoga-8/
LOCATION:Wassersportverein Osnabrück (WSV)\, Die Eversburg 60\, Osnabrück\, 49090\, Deutschland
CATEGORIES:Gesundheitssport
ATTACH;FMTTYPE=image/jpeg:https://www.osnabruecker-kanu-club.de/wp-content/uploads/2023/02/yoga-263673_960_720-e1675974726650.jpg
GEO:52.3103545;7.9990074
X-APPLE-STRUCTURED-LOCATION;VALUE=URI;X-ADDRESS=Wassersportverein Osnabrück (WSV) Die Eversburg 60 Osnabrück 49090 Deutschland;X-APPLE-RADIUS=500;X-TITLE=Die Eversburg 60:geo:7.9990074,52.3103545
END:VEVENT
BEGIN:VEVENT
DTSTART;TZID=Europe/Berlin:20230421T190000
DTEND;TZID=Europe/Berlin:20230421T200000
DTSTAMP:20260420T030209
CREATED:20230212T210917Z
LAST-MODIFIED:20230212T211222Z
UID:10005912-1682103600-1682107200@www.osnabruecker-kanu-club.de
SUMMARY:Aquafitness
DESCRIPTION:Beschreibung: Allgemeines Fitnesstraining im Bewegungsbad \nKursleitung: Willy Althaus \nOrt: Physiotherapie und Medi-Fitness an der Birkenallee\,  \nWeitere Informationen und Anmeldung  (für diesen und für Folgetermine) im Haupttermin. Diesen findest du HIER.
URL:https://www.osnabruecker-kanu-club.de/event/aquafitness-2/2023-04-21/
LOCATION:Physiotherapie und Medi-Fitness an der Birkenallee\, Birkenallee 11\, Osnabrück\, 49076\, Deutschland
CATEGORIES:Gesundheitssport
ATTACH;FMTTYPE=image/jpeg:https://www.osnabruecker-kanu-club.de/wp-content/uploads/2023/02/ladder-6799003_960_720-e1675975627739.jpg
ORGANIZER;CN="Willy Althaus":MAILTO:W.Althaus01@web.de
END:VEVENT
BEGIN:VEVENT
DTSTART;TZID=Europe/Berlin:20230426T183000
DTEND;TZID=Europe/Berlin:20230426T194500
DTSTAMP:20260420T030209
CREATED:20230211T064128Z
LAST-MODIFIED:20230211T064128Z
UID:10005899-1682533800-1682538300@www.osnabruecker-kanu-club.de
SUMMARY:Yoga
DESCRIPTION:Beschreibung: Yoga Kurse\, für Anfänger bis Fortgeschrittene \nKursleitung: Barbara Pankoke \nOrt: Saal Wassersportverein Osnabrück
URL:https://www.osnabruecker-kanu-club.de/event/yoga-9/
LOCATION:Wassersportverein Osnabrück (WSV)\, Die Eversburg 60\, Osnabrück\, 49090\, Deutschland
CATEGORIES:Gesundheitssport
ATTACH;FMTTYPE=image/jpeg:https://www.osnabruecker-kanu-club.de/wp-content/uploads/2023/02/yoga-263673_960_720-e1675974726650.jpg
GEO:52.3103545;7.9990074
X-APPLE-STRUCTURED-LOCATION;VALUE=URI;X-ADDRESS=Wassersportverein Osnabrück (WSV) Die Eversburg 60 Osnabrück 49090 Deutschland;X-APPLE-RADIUS=500;X-TITLE=Die Eversburg 60:geo:7.9990074,52.3103545
END:VEVENT
BEGIN:VEVENT
DTSTART;TZID=Europe/Berlin:20230428T190000
DTEND;TZID=Europe/Berlin:20230428T200000
DTSTAMP:20260420T030209
CREATED:20230212T210917Z
LAST-MODIFIED:20230212T211222Z
UID:10005913-1682708400-1682712000@www.osnabruecker-kanu-club.de
SUMMARY:Aquafitness
DESCRIPTION:Beschreibung: Allgemeines Fitnesstraining im Bewegungsbad \nKursleitung: Willy Althaus \nOrt: Physiotherapie und Medi-Fitness an der Birkenallee\,  \nWeitere Informationen und Anmeldung  (für diesen und für Folgetermine) im Haupttermin. Diesen findest du HIER.
URL:https://www.osnabruecker-kanu-club.de/event/aquafitness-2/2023-04-28/
LOCATION:Physiotherapie und Medi-Fitness an der Birkenallee\, Birkenallee 11\, Osnabrück\, 49076\, Deutschland
CATEGORIES:Gesundheitssport
ATTACH;FMTTYPE=image/jpeg:https://www.osnabruecker-kanu-club.de/wp-content/uploads/2023/02/ladder-6799003_960_720-e1675975627739.jpg
ORGANIZER;CN="Willy Althaus":MAILTO:W.Althaus01@web.de
END:VEVENT
END:VCALENDAR