BEGIN:VCALENDAR
VERSION:2.0
PRODID:-//Osnabrücker Kanu-Club von 1926 e.V.. - ECPv6.15.20//NONSGML v1.0//EN
CALSCALE:GREGORIAN
METHOD:PUBLISH
X-ORIGINAL-URL:https://www.osnabruecker-kanu-club.de
X-WR-CALDESC:Veranstaltungen für Osnabrücker Kanu-Club von 1926 e.V..
REFRESH-INTERVAL;VALUE=DURATION:PT1H
X-Robots-Tag:noindex
X-PUBLISHED-TTL:PT1H
BEGIN:VTIMEZONE
TZID:Europe/Berlin
BEGIN:DAYLIGHT
TZOFFSETFROM:+0100
TZOFFSETTO:+0200
TZNAME:CEST
DTSTART:20220327T010000
END:DAYLIGHT
BEGIN:STANDARD
TZOFFSETFROM:+0200
TZOFFSETTO:+0100
TZNAME:CET
DTSTART:20221030T010000
END:STANDARD
BEGIN:DAYLIGHT
TZOFFSETFROM:+0100
TZOFFSETTO:+0200
TZNAME:CEST
DTSTART:20230326T010000
END:DAYLIGHT
BEGIN:STANDARD
TZOFFSETFROM:+0200
TZOFFSETTO:+0100
TZNAME:CET
DTSTART:20231029T010000
END:STANDARD
BEGIN:DAYLIGHT
TZOFFSETFROM:+0100
TZOFFSETTO:+0200
TZNAME:CEST
DTSTART:20240331T010000
END:DAYLIGHT
BEGIN:STANDARD
TZOFFSETFROM:+0200
TZOFFSETTO:+0100
TZNAME:CET
DTSTART:20241027T010000
END:STANDARD
END:VTIMEZONE
BEGIN:VEVENT
DTSTART;TZID=Europe/Berlin:20230907T180000
DTEND;TZID=Europe/Berlin:20230907T200000
DTSTAMP:20260422T060228
CREATED:20230519T054504Z
LAST-MODIFIED:20230904T185005Z
UID:10006100-1694109600-1694116800@www.osnabruecker-kanu-club.de
SUMMARY:Feierabendpaddeln
DESCRIPTION:Wöchentliches Paddeltreffen mit angeleiteten Trainingseinheiten zu Grundtechniken. Die Veranstaltung ist einsteigergeeignet. \nKurzfristige Informationen zu den einzelnen Terminen werden über die OKC-Gruppe auf SIGNAL gestreut. \nKeine Anmeldung erforderlich.
URL:https://www.osnabruecker-kanu-club.de/event/feierabendpaddeln/2023-09-07/
LOCATION:Osnabrücker Kanu-Club (OKC)\, Die Eversburg 58\, Osnabrück\, 49090\, Deutschland
CATEGORIES:Paddeltreff,Techniktraining,Veranstaltungen
ATTACH;FMTTYPE=image/jpeg:https://www.osnabruecker-kanu-club.de/wp-content/uploads/2022/04/MVIMG_20200721_202258_2-e1684475426947.jpg
ORGANIZER;CN="Rene Gwis":MAILTO:rene.gwis@gmail.com
GEO:52.3101755;7.9988733
X-APPLE-STRUCTURED-LOCATION;VALUE=URI;X-ADDRESS=Osnabrücker Kanu-Club (OKC) Die Eversburg 58 Osnabrück 49090 Deutschland;X-APPLE-RADIUS=500;X-TITLE=Die Eversburg 58:geo:7.9988733,52.3101755
END:VEVENT
BEGIN:VEVENT
DTSTART;TZID=Europe/Berlin:20230914T180000
DTEND;TZID=Europe/Berlin:20230914T200000
DTSTAMP:20260422T060228
CREATED:20230904T185143Z
LAST-MODIFIED:20230904T185143Z
UID:10006299-1694714400-1694721600@www.osnabruecker-kanu-club.de
SUMMARY:Feierabendpaddeln
DESCRIPTION:Wöchentliches Paddeltreffen OHNE angeleitetes Training. ALSO PADDELN PUR 😉 \nDie Veranstaltung ist einsteigergeeignet. Ansprechpartnerin für diesen Termin ist Sandra Flohre. \nBegrenzte Teilnehmerzahl. Bitte anmelden.
URL:https://www.osnabruecker-kanu-club.de/event/feierabendpaddeln-4/
LOCATION:Osnabrücker Kanu-Club (OKC)\, Die Eversburg 58\, Osnabrück\, 49090\, Deutschland
CATEGORIES:Paddeltreff,Techniktraining,Veranstaltungen
ATTACH;FMTTYPE=image/jpeg:https://www.osnabruecker-kanu-club.de/wp-content/uploads/2022/04/MVIMG_20200721_202258_2-e1684475426947.jpg
ORGANIZER;CN="Osnabr%C3%BCcker Kanu-Club (OKC)":MAILTO:kontakt@osnabruecker-kanu-club.de
GEO:52.3101755;7.9988733
X-APPLE-STRUCTURED-LOCATION;VALUE=URI;X-ADDRESS=Osnabrücker Kanu-Club (OKC) Die Eversburg 58 Osnabrück 49090 Deutschland;X-APPLE-RADIUS=500;X-TITLE=Die Eversburg 58:geo:7.9988733,52.3101755
END:VEVENT
BEGIN:VEVENT
DTSTART;TZID=Europe/Berlin:20230921T180000
DTEND;TZID=Europe/Berlin:20230921T200000
DTSTAMP:20260422T060228
CREATED:20230519T054504Z
LAST-MODIFIED:20230904T185005Z
UID:10006102-1695319200-1695326400@www.osnabruecker-kanu-club.de
SUMMARY:Feierabendpaddeln
DESCRIPTION:Wöchentliches Paddeltreffen mit angeleiteten Trainingseinheiten zu Grundtechniken. Die Veranstaltung ist einsteigergeeignet. \nKurzfristige Informationen zu den einzelnen Terminen werden über die OKC-Gruppe auf SIGNAL gestreut. \nKeine Anmeldung erforderlich.
URL:https://www.osnabruecker-kanu-club.de/event/feierabendpaddeln/2023-09-21/
LOCATION:Osnabrücker Kanu-Club (OKC)\, Die Eversburg 58\, Osnabrück\, 49090\, Deutschland
CATEGORIES:Paddeltreff,Techniktraining,Veranstaltungen
ATTACH;FMTTYPE=image/jpeg:https://www.osnabruecker-kanu-club.de/wp-content/uploads/2022/04/MVIMG_20200721_202258_2-e1684475426947.jpg
ORGANIZER;CN="Rene Gwis":MAILTO:rene.gwis@gmail.com
GEO:52.3101755;7.9988733
X-APPLE-STRUCTURED-LOCATION;VALUE=URI;X-ADDRESS=Osnabrücker Kanu-Club (OKC) Die Eversburg 58 Osnabrück 49090 Deutschland;X-APPLE-RADIUS=500;X-TITLE=Die Eversburg 58:geo:7.9988733,52.3101755
END:VEVENT
BEGIN:VEVENT
DTSTART;TZID=Europe/Berlin:20230928T180000
DTEND;TZID=Europe/Berlin:20230928T200000
DTSTAMP:20260422T060228
CREATED:20230904T184650Z
LAST-MODIFIED:20230904T184748Z
UID:10006284-1695924000-1695931200@www.osnabruecker-kanu-club.de
SUMMARY:Feierabendpaddeln
DESCRIPTION:Wöchentliches Paddeltreffen OHNE angeleitetes Training. ALSO PADDELN PUR 😉 \nDie Veranstaltung ist einsteigergeeignet. Ansprechpartnerin für diesen Termin ist Christina Wielenberg. \nBegrenzte Teilnehmerzahl. Bitte anmelden.
URL:https://www.osnabruecker-kanu-club.de/event/feierabendpaddeln-3/
LOCATION:Osnabrücker Kanu-Club (OKC)\, Die Eversburg 58\, Osnabrück\, 49090\, Deutschland
CATEGORIES:Paddeltreff,Techniktraining,Veranstaltungen
ATTACH;FMTTYPE=image/jpeg:https://www.osnabruecker-kanu-club.de/wp-content/uploads/2022/04/MVIMG_20200721_202258_2-e1684475426947.jpg
ORGANIZER;CN="Osnabr%C3%BCcker Kanu-Club (OKC)":MAILTO:kontakt@osnabruecker-kanu-club.de
GEO:52.3101755;7.9988733
X-APPLE-STRUCTURED-LOCATION;VALUE=URI;X-ADDRESS=Osnabrücker Kanu-Club (OKC) Die Eversburg 58 Osnabrück 49090 Deutschland;X-APPLE-RADIUS=500;X-TITLE=Die Eversburg 58:geo:7.9988733,52.3101755
END:VEVENT
END:VCALENDAR