BEGIN:VCALENDAR
VERSION:2.0
PRODID:-//Osnabrücker Kanu-Club von 1926 e.V.. - ECPv6.15.20//NONSGML v1.0//EN
CALSCALE:GREGORIAN
METHOD:PUBLISH
X-ORIGINAL-URL:https://www.osnabruecker-kanu-club.de
X-WR-CALDESC:Veranstaltungen für Osnabrücker Kanu-Club von 1926 e.V..
REFRESH-INTERVAL;VALUE=DURATION:PT1H
X-Robots-Tag:noindex
X-PUBLISHED-TTL:PT1H
BEGIN:VTIMEZONE
TZID:Europe/Berlin
BEGIN:DAYLIGHT
TZOFFSETFROM:+0100
TZOFFSETTO:+0200
TZNAME:CEST
DTSTART:20230326T010000
END:DAYLIGHT
BEGIN:STANDARD
TZOFFSETFROM:+0200
TZOFFSETTO:+0100
TZNAME:CET
DTSTART:20231029T010000
END:STANDARD
BEGIN:DAYLIGHT
TZOFFSETFROM:+0100
TZOFFSETTO:+0200
TZNAME:CEST
DTSTART:20240331T010000
END:DAYLIGHT
BEGIN:STANDARD
TZOFFSETFROM:+0200
TZOFFSETTO:+0100
TZNAME:CET
DTSTART:20241027T010000
END:STANDARD
BEGIN:DAYLIGHT
TZOFFSETFROM:+0100
TZOFFSETTO:+0200
TZNAME:CEST
DTSTART:20250330T010000
END:DAYLIGHT
BEGIN:STANDARD
TZOFFSETFROM:+0200
TZOFFSETTO:+0100
TZNAME:CET
DTSTART:20251026T010000
END:STANDARD
END:VTIMEZONE
BEGIN:VEVENT
DTSTART;TZID=Europe/Berlin:20240302T180000
DTEND;TZID=Europe/Berlin:20240302T210000
DTSTAMP:20260425T214400
CREATED:20240123T164147Z
LAST-MODIFIED:20240123T165046Z
UID:10006743-1709402400-1709413200@www.osnabruecker-kanu-club.de
SUMMARY:Paddeltechnik => Sicherheit => Seekajak
DESCRIPTION:Sicherheits- und Rollentraining im Hallenbad in Lienen\, innerhalb der laufenden Trainingsreihe.\nDas Training ist ausgebucht. 🙁
URL:https://www.osnabruecker-kanu-club.de/event/paddeltechnik-sicherheit-seekajak-14/
CATEGORIES:Hallenbadtraining,Rollentraining,Techniktraining
ATTACH;FMTTYPE=image/jpeg:https://www.osnabruecker-kanu-club.de/wp-content/uploads/2024/01/2014-03-23-FP14_c-stormroll_4.jpg
ORGANIZER;CN="Ralf-Michael Purschke":MAILTO:seekajak-os@gmx.de
END:VEVENT
BEGIN:VEVENT
DTSTART;TZID=Europe/Berlin:20240310T130000
DTEND;TZID=Europe/Berlin:20240310T160000
DTSTAMP:20260425T214400
CREATED:20240123T165458Z
LAST-MODIFIED:20240123T165458Z
UID:10006744-1710075600-1710086400@www.osnabruecker-kanu-club.de
SUMMARY:Paddeltechnik => Sicherheit => Seekajak
DESCRIPTION:Sicherheits- und Rollentraining im Hallenbad in Lienen\, innerhalb der laufenden Trainingsreihe.\nDas Training ist ausgebucht. 🙁
URL:https://www.osnabruecker-kanu-club.de/event/paddeltechnik-sicherheit-seekajak-15/
LOCATION:Hallenfreibad Lienen\, Holperdorp Str. 37\, Lienen\, 49536\, Deutschland
CATEGORIES:Hallenbadtraining,Rollentraining,Techniktraining
ATTACH;FMTTYPE=image/jpeg:https://www.osnabruecker-kanu-club.de/wp-content/uploads/2024/01/2014-03-23-FP14_c-stormroll_4.jpg
ORGANIZER;CN="Ralf-Michael Purschke":MAILTO:seekajak-os@gmx.de
GEO:52.1549464;7.9693298
X-APPLE-STRUCTURED-LOCATION;VALUE=URI;X-ADDRESS=Hallenfreibad Lienen Holperdorp Str. 37 Lienen 49536 Deutschland;X-APPLE-RADIUS=500;X-TITLE=Holperdorp Str. 37:geo:7.9693298,52.1549464
END:VEVENT
END:VCALENDAR