BEGIN:VCALENDAR
VERSION:2.0
PRODID:-//Osnabrücker Kanu-Club von 1926 e.V.. - ECPv6.15.20//NONSGML v1.0//EN
CALSCALE:GREGORIAN
METHOD:PUBLISH
X-ORIGINAL-URL:https://www.osnabruecker-kanu-club.de
X-WR-CALDESC:Veranstaltungen für Osnabrücker Kanu-Club von 1926 e.V..
REFRESH-INTERVAL;VALUE=DURATION:PT1H
X-Robots-Tag:noindex
X-PUBLISHED-TTL:PT1H
BEGIN:VTIMEZONE
TZID:Europe/Berlin
BEGIN:DAYLIGHT
TZOFFSETFROM:+0100
TZOFFSETTO:+0200
TZNAME:CEST
DTSTART:20220327T010000
END:DAYLIGHT
BEGIN:STANDARD
TZOFFSETFROM:+0200
TZOFFSETTO:+0100
TZNAME:CET
DTSTART:20221030T010000
END:STANDARD
BEGIN:DAYLIGHT
TZOFFSETFROM:+0100
TZOFFSETTO:+0200
TZNAME:CEST
DTSTART:20230326T010000
END:DAYLIGHT
BEGIN:STANDARD
TZOFFSETFROM:+0200
TZOFFSETTO:+0100
TZNAME:CET
DTSTART:20231029T010000
END:STANDARD
BEGIN:DAYLIGHT
TZOFFSETFROM:+0100
TZOFFSETTO:+0200
TZNAME:CEST
DTSTART:20240331T010000
END:DAYLIGHT
BEGIN:STANDARD
TZOFFSETFROM:+0200
TZOFFSETTO:+0100
TZNAME:CET
DTSTART:20241027T010000
END:STANDARD
END:VTIMEZONE
BEGIN:VEVENT
DTSTART;TZID=Europe/Berlin:20230503T180000
DTEND;TZID=Europe/Berlin:20230503T190000
DTSTAMP:20260426T010625
CREATED:20230302T093719Z
LAST-MODIFIED:20230303T064015Z
UID:10005883-1683136800-1683140400@www.osnabruecker-kanu-club.de
SUMMARY:Bellicon-Training
DESCRIPTION:Beim Bellicon-Training handelt es sich um ein intensives Fitnessprogramm mit vielfältigen Übungskombinationen auf dem Trampolin. Es steigert die Ausdauer\, verbessert die Koordination\, stärkt die Muskeln und strafft nebenbei den ganzen Körper. Das Workout ist ganzheitlich und gelenkschonend. \nBenötigte Ausrüstung: Stopper-Socken \nAnmeldung bitte über https://xoyondo.com/dp/ue8rjfcGK4TyRWA  \nBitte gibt beim Ausfüllen der Anmeldung deinen Vor- und Nachnamen sowie deine Emailadresse an\, damit Verena im Fall des Falles mit dir in Kontakt treten kann\, z.B.\, wenn sie einen Termin kurzfristig absagen muss. Noch besser klappt es mit solchen An- bzw. Absagen\, wenn du ihrer Signal-Gruppe „Hoppers“ beitrittst. \nUm der Signal-Gruppe beizutreten\, klicke auf das Symbol:   \nRückfragen an Verena gerne auch per Mail (verenaweidner@gmx.de) oder per Telefon (0151 56003631).
URL:https://www.osnabruecker-kanu-club.de/event/bellicon-training-11-2/2023-05-03/
LOCATION:Osnabrücker Kanu-Club (OKC)\, Die Eversburg 58\, Osnabrück\, 49090\, Deutschland
CATEGORIES:Bellicon-Training,Gesundheitssport
ATTACH;FMTTYPE=image/jpeg:https://www.osnabruecker-kanu-club.de/wp-content/uploads/2023/01/bellicon.jpg
ORGANIZER;CN="Verena Weidner":MAILTO:verenaweidner@gmx.de
GEO:52.3101755;7.9988733
X-APPLE-STRUCTURED-LOCATION;VALUE=URI;X-ADDRESS=Osnabrücker Kanu-Club (OKC) Die Eversburg 58 Osnabrück 49090 Deutschland;X-APPLE-RADIUS=500;X-TITLE=Die Eversburg 58:geo:7.9988733,52.3101755
END:VEVENT
BEGIN:VEVENT
DTSTART;TZID=Europe/Berlin:20230503T183000
DTEND;TZID=Europe/Berlin:20230503T194500
DTSTAMP:20260426T010625
CREATED:20230212T212145Z
LAST-MODIFIED:20230212T212145Z
UID:10005966-1683138600-1683143100@www.osnabruecker-kanu-club.de
SUMMARY:Yoga
DESCRIPTION:Beschreibung: Yoga Kurse\, für Anfänger bis Fortgeschrittene \nKursleitung: Barbara Pankoke \nOrt: Saal Wassersportverein Osnabrück
URL:https://www.osnabruecker-kanu-club.de/event/yoga-10/
LOCATION:Wassersportverein Osnabrück (WSV)\, Die Eversburg 60\, Osnabrück\, 49090\, Deutschland
CATEGORIES:Gesundheitssport
ATTACH;FMTTYPE=image/jpeg:https://www.osnabruecker-kanu-club.de/wp-content/uploads/2023/02/yoga-263673_960_720-e1675974726650.jpg
GEO:52.3103545;7.9990074
X-APPLE-STRUCTURED-LOCATION;VALUE=URI;X-ADDRESS=Wassersportverein Osnabrück (WSV) Die Eversburg 60 Osnabrück 49090 Deutschland;X-APPLE-RADIUS=500;X-TITLE=Die Eversburg 60:geo:7.9990074,52.3103545
END:VEVENT
BEGIN:VEVENT
DTSTART;TZID=Europe/Berlin:20230508T190000
DTEND;TZID=Europe/Berlin:20230508T200000
DTSTAMP:20260426T010625
CREATED:20230212T211706Z
LAST-MODIFIED:20230212T211706Z
UID:10005961-1683572400-1683576000@www.osnabruecker-kanu-club.de
SUMMARY:Allgemeines Fitnesstraining
DESCRIPTION:Beschreibung: Training für den ganzen Körper\, Zirkeltraining mit Kleingeräten und Beweglichkeitstraining. \nKursleitung: Jana Rödecker (Physiotherapeutin) \nMitbringen: Handtuch zum Unterlegen\, saubere Hallenschuhe \nOrt: Gymnastikhalle Osnabrücker Ruder-Verein
URL:https://www.osnabruecker-kanu-club.de/event/allgemeines-fitnesstraining-5/
LOCATION:Osnabrücker Ruderverein (ORV)\, Glückaufstr. 16\, Osnabrück\, 49090\, Deutschland
CATEGORIES:Gesundheitssport
ATTACH;FMTTYPE=image/jpeg:https://www.osnabruecker-kanu-club.de/wp-content/uploads/2023/02/gym-1677220_960_720-e1675973894374.jpg
GEO:52.3097006;8.0003232
X-APPLE-STRUCTURED-LOCATION;VALUE=URI;X-ADDRESS=Osnabrücker Ruderverein (ORV) Glückaufstr. 16 Osnabrück 49090 Deutschland;X-APPLE-RADIUS=500;X-TITLE=Glückaufstr. 16:geo:8.0003232,52.3097006
END:VEVENT
BEGIN:VEVENT
DTSTART;TZID=Europe/Berlin:20230509T180000
DTEND;TZID=Europe/Berlin:20230509T200000
DTSTAMP:20260426T010625
CREATED:20230413T121458Z
LAST-MODIFIED:20230413T121716Z
UID:10006000-1683655200-1683662400@www.osnabruecker-kanu-club.de
SUMMARY:Schnupperpaddeln
DESCRIPTION:Du hast Interesse am Kanusport und möchtest unseren OKC kennenlernen? Dann melde dich über den Teilnehmen-Button für das Schnupperpaddeln an. Hier lernst du das Vereinshaus kennen\, kannst dich über das Vereinsangebot informieren und eine Runde mit uns paddeln. Sollte dieser Termin bereits ausgebucht sein\, schaue gerne nach einem der Folgetermine. Das Schnupperpaddeln findet jeden 2. und 4. Dienstag im Monat statt. \n  \nHinweis\nDa es sich um eine Wassersportveranstaltung handelt\, müssen alle Teilnehmer:innen schwimmen können. Ein “Seepferdchen” reicht nicht\, das Schwimmabzeichen in “Bronze” ist ausreichend. Wertgegenstände wie Uhren\, Ketten\, Ringe und sonstiger Schmuck sollten\, wenn möglich\, direkt zu Hause gelassen werden. \n  \nWas muss zum Paddeln mitgebracht werden? \n\nDem Wetter angepasste (Wassersport-) Bekleidung\, z.B. Hosen und Pullover aus Polyester-Mischgeweben (KEINE Jeans oder Baumwollhosen/-pullover)\nEine alte dünne (Regen-) Jacke\nFestes Schuhwerk\, z.B. Wasserschuhe oder ALTE\, fest am Fuß sitzende Halbschuhe (KEINE Flip-Flops\, Crocs\, Gummi-\, Wanderstiefel oder ähnliches)\, es darf nicht barfuß gepaddelt werden.\nEine komplette Wechselgarnitur (inkl. Unterwäsche und Schuhe)\nHandtuch\nBei Sonnenschein auch eine Kopfbedeckung\nBrillenträger denken bitte an ein Brillenband.
URL:https://www.osnabruecker-kanu-club.de/event/schnupperpaddeln/
LOCATION:Osnabrücker Kanu-Club (OKC)\, Die Eversburg 58\, Osnabrück\, 49090\, Deutschland
CATEGORIES:Schnupperpaddeln
ATTACH;FMTTYPE=image/jpeg:https://www.osnabruecker-kanu-club.de/wp-content/uploads/2022/04/MVIMG_20200721_202258_2-e1684475426947.jpg
ORGANIZER;CN="Kai Moranz":MAILTO:kai.moranz@outlook.de
GEO:52.3101755;7.9988733
X-APPLE-STRUCTURED-LOCATION;VALUE=URI;X-ADDRESS=Osnabrücker Kanu-Club (OKC) Die Eversburg 58 Osnabrück 49090 Deutschland;X-APPLE-RADIUS=500;X-TITLE=Die Eversburg 58:geo:7.9988733,52.3101755
END:VEVENT
BEGIN:VEVENT
DTSTART;TZID=Europe/Berlin:20230510T180000
DTEND;TZID=Europe/Berlin:20230510T190000
DTSTAMP:20260426T010625
CREATED:20230302T093719Z
LAST-MODIFIED:20230303T064015Z
UID:10005884-1683741600-1683745200@www.osnabruecker-kanu-club.de
SUMMARY:Bellicon-Training
DESCRIPTION:Beim Bellicon-Training handelt es sich um ein intensives Fitnessprogramm mit vielfältigen Übungskombinationen auf dem Trampolin. Es steigert die Ausdauer\, verbessert die Koordination\, stärkt die Muskeln und strafft nebenbei den ganzen Körper. Das Workout ist ganzheitlich und gelenkschonend. \nBenötigte Ausrüstung: Stopper-Socken \nAnmeldung bitte über https://xoyondo.com/dp/ue8rjfcGK4TyRWA  \nBitte gibt beim Ausfüllen der Anmeldung deinen Vor- und Nachnamen sowie deine Emailadresse an\, damit Verena im Fall des Falles mit dir in Kontakt treten kann\, z.B.\, wenn sie einen Termin kurzfristig absagen muss. Noch besser klappt es mit solchen An- bzw. Absagen\, wenn du ihrer Signal-Gruppe „Hoppers“ beitrittst. \nUm der Signal-Gruppe beizutreten\, klicke auf das Symbol:   \nRückfragen an Verena gerne auch per Mail (verenaweidner@gmx.de) oder per Telefon (0151 56003631).
URL:https://www.osnabruecker-kanu-club.de/event/bellicon-training-11-2/2023-05-10/
LOCATION:Osnabrücker Kanu-Club (OKC)\, Die Eversburg 58\, Osnabrück\, 49090\, Deutschland
CATEGORIES:Bellicon-Training,Gesundheitssport
ATTACH;FMTTYPE=image/jpeg:https://www.osnabruecker-kanu-club.de/wp-content/uploads/2023/01/bellicon.jpg
ORGANIZER;CN="Verena Weidner":MAILTO:verenaweidner@gmx.de
GEO:52.3101755;7.9988733
X-APPLE-STRUCTURED-LOCATION;VALUE=URI;X-ADDRESS=Osnabrücker Kanu-Club (OKC) Die Eversburg 58 Osnabrück 49090 Deutschland;X-APPLE-RADIUS=500;X-TITLE=Die Eversburg 58:geo:7.9988733,52.3101755
END:VEVENT
BEGIN:VEVENT
DTSTART;TZID=Europe/Berlin:20230510T183000
DTEND;TZID=Europe/Berlin:20230510T194500
DTSTAMP:20260426T010625
CREATED:20230212T212215Z
LAST-MODIFIED:20230212T212215Z
UID:10005967-1683743400-1683747900@www.osnabruecker-kanu-club.de
SUMMARY:Yoga
DESCRIPTION:Beschreibung: Yoga Kurse\, für Anfänger bis Fortgeschrittene \nKursleitung: Barbara Pankoke \nOrt: Saal Wassersportverein Osnabrück
URL:https://www.osnabruecker-kanu-club.de/event/yoga-11/
LOCATION:Wassersportverein Osnabrück (WSV)\, Die Eversburg 60\, Osnabrück\, 49090\, Deutschland
CATEGORIES:Gesundheitssport
ATTACH;FMTTYPE=image/jpeg:https://www.osnabruecker-kanu-club.de/wp-content/uploads/2023/02/yoga-263673_960_720-e1675974726650.jpg
GEO:52.3103545;7.9990074
X-APPLE-STRUCTURED-LOCATION;VALUE=URI;X-ADDRESS=Wassersportverein Osnabrück (WSV) Die Eversburg 60 Osnabrück 49090 Deutschland;X-APPLE-RADIUS=500;X-TITLE=Die Eversburg 60:geo:7.9990074,52.3103545
END:VEVENT
BEGIN:VEVENT
DTSTART;TZID=Europe/Berlin:20230515T190000
DTEND;TZID=Europe/Berlin:20230515T200000
DTSTAMP:20260426T010625
CREATED:20230212T211743Z
LAST-MODIFIED:20230212T211743Z
UID:10005962-1684177200-1684180800@www.osnabruecker-kanu-club.de
SUMMARY:Allgemeines Fitnesstraining
DESCRIPTION:Beschreibung: Training für den ganzen Körper\, Zirkeltraining mit Kleingeräten und Beweglichkeitstraining. \nKursleitung: Jana Rödecker (Physiotherapeutin) \nMitbringen: Handtuch zum Unterlegen\, saubere Hallenschuhe \nOrt: Gymnastikhalle Osnabrücker Ruder-Verein
URL:https://www.osnabruecker-kanu-club.de/event/allgemeines-fitnesstraining-6/
LOCATION:Osnabrücker Ruderverein (ORV)\, Glückaufstr. 16\, Osnabrück\, 49090\, Deutschland
CATEGORIES:Gesundheitssport
ATTACH;FMTTYPE=image/jpeg:https://www.osnabruecker-kanu-club.de/wp-content/uploads/2023/02/gym-1677220_960_720-e1675973894374.jpg
GEO:52.3097006;8.0003232
X-APPLE-STRUCTURED-LOCATION;VALUE=URI;X-ADDRESS=Osnabrücker Ruderverein (ORV) Glückaufstr. 16 Osnabrück 49090 Deutschland;X-APPLE-RADIUS=500;X-TITLE=Glückaufstr. 16:geo:8.0003232,52.3097006
END:VEVENT
BEGIN:VEVENT
DTSTART;TZID=Europe/Berlin:20230517T180000
DTEND;TZID=Europe/Berlin:20230517T190000
DTSTAMP:20260426T010625
CREATED:20230302T093719Z
LAST-MODIFIED:20230303T064015Z
UID:10005885-1684346400-1684350000@www.osnabruecker-kanu-club.de
SUMMARY:Bellicon-Training
DESCRIPTION:Beim Bellicon-Training handelt es sich um ein intensives Fitnessprogramm mit vielfältigen Übungskombinationen auf dem Trampolin. Es steigert die Ausdauer\, verbessert die Koordination\, stärkt die Muskeln und strafft nebenbei den ganzen Körper. Das Workout ist ganzheitlich und gelenkschonend. \nBenötigte Ausrüstung: Stopper-Socken \nAnmeldung bitte über https://xoyondo.com/dp/ue8rjfcGK4TyRWA  \nBitte gibt beim Ausfüllen der Anmeldung deinen Vor- und Nachnamen sowie deine Emailadresse an\, damit Verena im Fall des Falles mit dir in Kontakt treten kann\, z.B.\, wenn sie einen Termin kurzfristig absagen muss. Noch besser klappt es mit solchen An- bzw. Absagen\, wenn du ihrer Signal-Gruppe „Hoppers“ beitrittst. \nUm der Signal-Gruppe beizutreten\, klicke auf das Symbol:   \nRückfragen an Verena gerne auch per Mail (verenaweidner@gmx.de) oder per Telefon (0151 56003631).
URL:https://www.osnabruecker-kanu-club.de/event/bellicon-training-11-2/2023-05-17/
LOCATION:Osnabrücker Kanu-Club (OKC)\, Die Eversburg 58\, Osnabrück\, 49090\, Deutschland
CATEGORIES:Bellicon-Training,Gesundheitssport
ATTACH;FMTTYPE=image/jpeg:https://www.osnabruecker-kanu-club.de/wp-content/uploads/2023/01/bellicon.jpg
ORGANIZER;CN="Verena Weidner":MAILTO:verenaweidner@gmx.de
GEO:52.3101755;7.9988733
X-APPLE-STRUCTURED-LOCATION;VALUE=URI;X-ADDRESS=Osnabrücker Kanu-Club (OKC) Die Eversburg 58 Osnabrück 49090 Deutschland;X-APPLE-RADIUS=500;X-TITLE=Die Eversburg 58:geo:7.9988733,52.3101755
END:VEVENT
BEGIN:VEVENT
DTSTART;TZID=Europe/Berlin:20230517T183000
DTEND;TZID=Europe/Berlin:20230517T194500
DTSTAMP:20260426T010625
CREATED:20230212T212245Z
LAST-MODIFIED:20230212T212245Z
UID:10005968-1684348200-1684352700@www.osnabruecker-kanu-club.de
SUMMARY:Yoga
DESCRIPTION:Beschreibung: Yoga Kurse\, für Anfänger bis Fortgeschrittene \nKursleitung: Barbara Pankoke \nOrt: Saal Wassersportverein Osnabrück
URL:https://www.osnabruecker-kanu-club.de/event/yoga-12/
LOCATION:Wassersportverein Osnabrück (WSV)\, Die Eversburg 60\, Osnabrück\, 49090\, Deutschland
CATEGORIES:Gesundheitssport
ATTACH;FMTTYPE=image/jpeg:https://www.osnabruecker-kanu-club.de/wp-content/uploads/2023/02/yoga-263673_960_720-e1675974726650.jpg
GEO:52.3103545;7.9990074
X-APPLE-STRUCTURED-LOCATION;VALUE=URI;X-ADDRESS=Wassersportverein Osnabrück (WSV) Die Eversburg 60 Osnabrück 49090 Deutschland;X-APPLE-RADIUS=500;X-TITLE=Die Eversburg 60:geo:7.9990074,52.3103545
END:VEVENT
BEGIN:VEVENT
DTSTART;TZID=Europe/Berlin:20230519T190000
DTEND;TZID=Europe/Berlin:20230519T200000
DTSTAMP:20260426T010625
CREATED:20230212T210917Z
LAST-MODIFIED:20230212T211222Z
UID:10005916-1684522800-1684526400@www.osnabruecker-kanu-club.de
SUMMARY:Aquafitness
DESCRIPTION:Beschreibung: Allgemeines Fitnesstraining im Bewegungsbad \nKursleitung: Willy Althaus \nOrt: Physiotherapie und Medi-Fitness an der Birkenallee\,  \nWeitere Informationen und Anmeldung  (für diesen und für Folgetermine) im Haupttermin. Diesen findest du HIER.
URL:https://www.osnabruecker-kanu-club.de/event/aquafitness-2/2023-05-19/
LOCATION:Physiotherapie und Medi-Fitness an der Birkenallee\, Birkenallee 11\, Osnabrück\, 49076\, Deutschland
CATEGORIES:Gesundheitssport
ATTACH;FMTTYPE=image/jpeg:https://www.osnabruecker-kanu-club.de/wp-content/uploads/2023/02/ladder-6799003_960_720-e1675975627739.jpg
ORGANIZER;CN="Willy Althaus":MAILTO:W.Althaus01@web.de
END:VEVENT
BEGIN:VEVENT
DTSTART;TZID=Europe/Berlin:20230522T190000
DTEND;TZID=Europe/Berlin:20230522T200000
DTSTAMP:20260426T010625
CREATED:20230212T211818Z
LAST-MODIFIED:20230212T211818Z
UID:10005963-1684782000-1684785600@www.osnabruecker-kanu-club.de
SUMMARY:Allgemeines Fitnesstraining
DESCRIPTION:Beschreibung: Training für den ganzen Körper\, Zirkeltraining mit Kleingeräten und Beweglichkeitstraining. \nKursleitung: Jana Rödecker (Physiotherapeutin) \nMitbringen: Handtuch zum Unterlegen\, saubere Hallenschuhe \nOrt: Gymnastikhalle Osnabrücker Ruder-Verein
URL:https://www.osnabruecker-kanu-club.de/event/allgemeines-fitnesstraining-7/
LOCATION:Osnabrücker Ruderverein (ORV)\, Glückaufstr. 16\, Osnabrück\, 49090\, Deutschland
CATEGORIES:Gesundheitssport
ATTACH;FMTTYPE=image/jpeg:https://www.osnabruecker-kanu-club.de/wp-content/uploads/2023/02/gym-1677220_960_720-e1675973894374.jpg
GEO:52.3097006;8.0003232
X-APPLE-STRUCTURED-LOCATION;VALUE=URI;X-ADDRESS=Osnabrücker Ruderverein (ORV) Glückaufstr. 16 Osnabrück 49090 Deutschland;X-APPLE-RADIUS=500;X-TITLE=Glückaufstr. 16:geo:8.0003232,52.3097006
END:VEVENT
BEGIN:VEVENT
DTSTART;TZID=Europe/Berlin:20230523T180000
DTEND;TZID=Europe/Berlin:20230523T200000
DTSTAMP:20260426T010625
CREATED:20230413T122107Z
LAST-MODIFIED:20230413T122107Z
UID:10006004-1684864800-1684872000@www.osnabruecker-kanu-club.de
SUMMARY:Schnupperpaddeln
DESCRIPTION:Du hast Interesse am Kanusport und möchtest unseren OKC kennenlernen? Dann melde dich über den Teilnehmen-Button für das Schnupperpaddeln an. Hier lernst du das Vereinshaus kennen\, kannst dich über das Vereinsangebot informieren und eine Runde mit uns paddeln. Sollte dieser Termin bereits ausgebucht sein\, schaue gerne nach einem der Folgetermine. Das Schnupperpaddeln findet jeden 2. und 4. Dienstag im Monat statt. \n  \nHinweis\nDa es sich um eine Wassersportveranstaltung handelt\, müssen alle Teilnehmer:innen schwimmen können. Ein “Seepferdchen” reicht nicht\, das Schwimmabzeichen in “Bronze” ist ausreichend. Wertgegenstände wie Uhren\, Ketten\, Ringe und sonstiger Schmuck sollten\, wenn möglich\, direkt zu Hause gelassen werden. \n  \nWas muss zum Paddeln mitgebracht werden? \n\nDem Wetter angepasste (Wassersport-) Bekleidung\, z.B. Hosen und Pullover aus Polyester-Mischgeweben (KEINE Jeans oder Baumwollhosen/-pullover)\nEine alte dünne (Regen-) Jacke\nFestes Schuhwerk\, z.B. Wasserschuhe oder ALTE\, fest am Fuß sitzende Halbschuhe (KEINE Flip-Flops\, Crocs\, Gummi-\, Wanderstiefel oder ähnliches)\, es darf nicht barfuß gepaddelt werden.\nEine komplette Wechselgarnitur (inkl. Unterwäsche und Schuhe)\nHandtuch\nBei Sonnenschein auch eine Kopfbedeckung\nBrillenträger denken bitte an ein Brillenband.
URL:https://www.osnabruecker-kanu-club.de/event/schnupperpaddeln-34/
LOCATION:Osnabrücker Kanu-Club (OKC)\, Die Eversburg 58\, Osnabrück\, 49090\, Deutschland
CATEGORIES:Schnupperpaddeln
ATTACH;FMTTYPE=image/jpeg:https://www.osnabruecker-kanu-club.de/wp-content/uploads/2022/04/MVIMG_20200721_202258_2-e1684475426947.jpg
ORGANIZER;CN="Sascha Doemer (OKC)":MAILTO:anmeldung@osnabruecker-kanu-club.de
GEO:52.3101755;7.9988733
X-APPLE-STRUCTURED-LOCATION;VALUE=URI;X-ADDRESS=Osnabrücker Kanu-Club (OKC) Die Eversburg 58 Osnabrück 49090 Deutschland;X-APPLE-RADIUS=500;X-TITLE=Die Eversburg 58:geo:7.9988733,52.3101755
END:VEVENT
BEGIN:VEVENT
DTSTART;TZID=Europe/Berlin:20230524T183000
DTEND;TZID=Europe/Berlin:20230524T194500
DTSTAMP:20260426T010625
CREATED:20230212T212317Z
LAST-MODIFIED:20230212T212317Z
UID:10005969-1684953000-1684957500@www.osnabruecker-kanu-club.de
SUMMARY:Yoga
DESCRIPTION:Beschreibung: Yoga Kurse\, für Anfänger bis Fortgeschrittene \nKursleitung: Barbara Pankoke \nOrt: Saal Wassersportverein Osnabrück
URL:https://www.osnabruecker-kanu-club.de/event/yoga-13/
LOCATION:Wassersportverein Osnabrück (WSV)\, Die Eversburg 60\, Osnabrück\, 49090\, Deutschland
CATEGORIES:Gesundheitssport
ATTACH;FMTTYPE=image/jpeg:https://www.osnabruecker-kanu-club.de/wp-content/uploads/2023/02/yoga-263673_960_720-e1675974726650.jpg
GEO:52.3103545;7.9990074
X-APPLE-STRUCTURED-LOCATION;VALUE=URI;X-ADDRESS=Wassersportverein Osnabrück (WSV) Die Eversburg 60 Osnabrück 49090 Deutschland;X-APPLE-RADIUS=500;X-TITLE=Die Eversburg 60:geo:7.9990074,52.3103545
END:VEVENT
BEGIN:VEVENT
DTSTART;TZID=Europe/Berlin:20230526T190000
DTEND;TZID=Europe/Berlin:20230526T200000
DTSTAMP:20260426T010625
CREATED:20230212T210917Z
LAST-MODIFIED:20230212T211222Z
UID:10005917-1685127600-1685131200@www.osnabruecker-kanu-club.de
SUMMARY:Aquafitness
DESCRIPTION:Beschreibung: Allgemeines Fitnesstraining im Bewegungsbad \nKursleitung: Willy Althaus \nOrt: Physiotherapie und Medi-Fitness an der Birkenallee\,  \nWeitere Informationen und Anmeldung  (für diesen und für Folgetermine) im Haupttermin. Diesen findest du HIER.
URL:https://www.osnabruecker-kanu-club.de/event/aquafitness-2/2023-05-26/
LOCATION:Physiotherapie und Medi-Fitness an der Birkenallee\, Birkenallee 11\, Osnabrück\, 49076\, Deutschland
CATEGORIES:Gesundheitssport
ATTACH;FMTTYPE=image/jpeg:https://www.osnabruecker-kanu-club.de/wp-content/uploads/2023/02/ladder-6799003_960_720-e1675975627739.jpg
ORGANIZER;CN="Willy Althaus":MAILTO:W.Althaus01@web.de
END:VEVENT
BEGIN:VEVENT
DTSTART;TZID=Europe/Berlin:20230531T180000
DTEND;TZID=Europe/Berlin:20230531T190000
DTSTAMP:20260426T010625
CREATED:20230302T093719Z
LAST-MODIFIED:20230303T064015Z
UID:10005887-1685556000-1685559600@www.osnabruecker-kanu-club.de
SUMMARY:Bellicon-Training
DESCRIPTION:Beim Bellicon-Training handelt es sich um ein intensives Fitnessprogramm mit vielfältigen Übungskombinationen auf dem Trampolin. Es steigert die Ausdauer\, verbessert die Koordination\, stärkt die Muskeln und strafft nebenbei den ganzen Körper. Das Workout ist ganzheitlich und gelenkschonend. \nBenötigte Ausrüstung: Stopper-Socken \nAnmeldung bitte über https://xoyondo.com/dp/ue8rjfcGK4TyRWA  \nBitte gibt beim Ausfüllen der Anmeldung deinen Vor- und Nachnamen sowie deine Emailadresse an\, damit Verena im Fall des Falles mit dir in Kontakt treten kann\, z.B.\, wenn sie einen Termin kurzfristig absagen muss. Noch besser klappt es mit solchen An- bzw. Absagen\, wenn du ihrer Signal-Gruppe „Hoppers“ beitrittst. \nUm der Signal-Gruppe beizutreten\, klicke auf das Symbol:   \nRückfragen an Verena gerne auch per Mail (verenaweidner@gmx.de) oder per Telefon (0151 56003631).
URL:https://www.osnabruecker-kanu-club.de/event/bellicon-training-11-2/2023-05-31/
LOCATION:Osnabrücker Kanu-Club (OKC)\, Die Eversburg 58\, Osnabrück\, 49090\, Deutschland
CATEGORIES:Bellicon-Training,Gesundheitssport
ATTACH;FMTTYPE=image/jpeg:https://www.osnabruecker-kanu-club.de/wp-content/uploads/2023/01/bellicon.jpg
ORGANIZER;CN="Verena Weidner":MAILTO:verenaweidner@gmx.de
GEO:52.3101755;7.9988733
X-APPLE-STRUCTURED-LOCATION;VALUE=URI;X-ADDRESS=Osnabrücker Kanu-Club (OKC) Die Eversburg 58 Osnabrück 49090 Deutschland;X-APPLE-RADIUS=500;X-TITLE=Die Eversburg 58:geo:7.9988733,52.3101755
END:VEVENT
BEGIN:VEVENT
DTSTART;TZID=Europe/Berlin:20230531T183000
DTEND;TZID=Europe/Berlin:20230531T194500
DTSTAMP:20260426T010625
CREATED:20230212T212344Z
LAST-MODIFIED:20230212T212344Z
UID:10005970-1685557800-1685562300@www.osnabruecker-kanu-club.de
SUMMARY:Yoga
DESCRIPTION:Beschreibung: Yoga Kurse\, für Anfänger bis Fortgeschrittene \nKursleitung: Barbara Pankoke \nOrt: Saal Wassersportverein Osnabrück
URL:https://www.osnabruecker-kanu-club.de/event/yoga-14/
LOCATION:Wassersportverein Osnabrück (WSV)\, Die Eversburg 60\, Osnabrück\, 49090\, Deutschland
CATEGORIES:Gesundheitssport
ATTACH;FMTTYPE=image/jpeg:https://www.osnabruecker-kanu-club.de/wp-content/uploads/2023/02/yoga-263673_960_720-e1675974726650.jpg
GEO:52.3103545;7.9990074
X-APPLE-STRUCTURED-LOCATION;VALUE=URI;X-ADDRESS=Wassersportverein Osnabrück (WSV) Die Eversburg 60 Osnabrück 49090 Deutschland;X-APPLE-RADIUS=500;X-TITLE=Die Eversburg 60:geo:7.9990074,52.3103545
END:VEVENT
END:VCALENDAR