BEGIN:VCALENDAR
VERSION:2.0
PRODID:-//Osnabrücker Kanu-Club von 1926 e.V.. - ECPv6.15.20//NONSGML v1.0//EN
CALSCALE:GREGORIAN
METHOD:PUBLISH
X-ORIGINAL-URL:https://www.osnabruecker-kanu-club.de
X-WR-CALDESC:Veranstaltungen für Osnabrücker Kanu-Club von 1926 e.V..
REFRESH-INTERVAL;VALUE=DURATION:PT1H
X-Robots-Tag:noindex
X-PUBLISHED-TTL:PT1H
BEGIN:VTIMEZONE
TZID:Europe/Berlin
BEGIN:DAYLIGHT
TZOFFSETFROM:+0100
TZOFFSETTO:+0200
TZNAME:CEST
DTSTART:20220327T010000
END:DAYLIGHT
BEGIN:STANDARD
TZOFFSETFROM:+0200
TZOFFSETTO:+0100
TZNAME:CET
DTSTART:20221030T010000
END:STANDARD
BEGIN:DAYLIGHT
TZOFFSETFROM:+0100
TZOFFSETTO:+0200
TZNAME:CEST
DTSTART:20230326T010000
END:DAYLIGHT
BEGIN:STANDARD
TZOFFSETFROM:+0200
TZOFFSETTO:+0100
TZNAME:CET
DTSTART:20231029T010000
END:STANDARD
BEGIN:DAYLIGHT
TZOFFSETFROM:+0100
TZOFFSETTO:+0200
TZNAME:CEST
DTSTART:20240331T010000
END:DAYLIGHT
BEGIN:STANDARD
TZOFFSETFROM:+0200
TZOFFSETTO:+0100
TZNAME:CET
DTSTART:20241027T010000
END:STANDARD
END:VTIMEZONE
BEGIN:VEVENT
DTSTART;TZID=Europe/Berlin:20230906T180000
DTEND;TZID=Europe/Berlin:20230906T190000
DTSTAMP:20260423T063906
CREATED:20231005T064730Z
LAST-MODIFIED:20241113T125733Z
UID:10006327-1694023200-1694026800@www.osnabruecker-kanu-club.de
SUMMARY:Bellicon-Training
DESCRIPTION:Beim Bellicon-Training handelt es sich um ein intensives Fitnessprogramm mit vielfältigen Übungskombinationen auf dem Trampolin. Es steigert die Ausdauer\, verbessert die Koordination\, stärkt die Muskeln und strafft nebenbei den ganzen Körper. Das Workout ist ganzheitlich und gelenkschonend. \nBenötigte Ausrüstung: Stopper-Socken \nAnmeldung bitte über https://xoyondo.com/dp/ue8rjfcGK4TyRWA  \nBitte gibt beim Ausfüllen der Anmeldung deinen Vor- und Nachnamen sowie deine Emailadresse an\, damit Verena im Fall des Falles mit dir in Kontakt treten kann\, z.B.\, wenn sie einen Termin kurzfristig absagen muss. Noch besser klappt es mit solchen An- bzw. Absagen\, wenn du ihrer Signal-Gruppe „Hoppers“ beitrittst. \nUm der Signal-Gruppe beizutreten\, klicke auf das Symbol:   \nRückfragen an Verena gerne auch per Mail (verenaweidner@gmx.de) oder per Telefon (0151 56003631).
URL:https://www.osnabruecker-kanu-club.de/event/bellicon-training-11-2-2/2023-09-06/
LOCATION:Osnabrücker Ruderverein (ORV)\, Glückaufstr. 16\, Osnabrück\, 49090\, Deutschland
CATEGORIES:Bellicon-Training,Gesundheitssport
ATTACH;FMTTYPE=image/jpeg:https://www.osnabruecker-kanu-club.de/wp-content/uploads/2023/01/bellicon.jpg
ORGANIZER;CN="Verena Weidner":MAILTO:verenaweidner@gmx.de
GEO:52.3097006;8.0003232
X-APPLE-STRUCTURED-LOCATION;VALUE=URI;X-ADDRESS=Osnabrücker Ruderverein (ORV) Glückaufstr. 16 Osnabrück 49090 Deutschland;X-APPLE-RADIUS=500;X-TITLE=Glückaufstr. 16:geo:8.0003232,52.3097006
END:VEVENT
BEGIN:VEVENT
DTSTART;TZID=Europe/Berlin:20230912T180000
DTEND;TZID=Europe/Berlin:20230912T200000
DTSTAMP:20260423T063906
CREATED:20230413T121910Z
LAST-MODIFIED:20230413T121910Z
UID:10006003-1694541600-1694548800@www.osnabruecker-kanu-club.de
SUMMARY:Schnupperpaddeln
DESCRIPTION:Du hast Interesse am Kanusport und möchtest unseren OKC kennenlernen? Dann melde dich über den Teilnehmen-Button für das Schnupperpaddeln an. Hier lernst du das Vereinshaus kennen\, kannst dich über das Vereinsangebot informieren und eine Runde mit uns paddeln. Sollte dieser Termin bereits ausgebucht sein\, schaue gerne nach einem der Folgetermine. Das Schnupperpaddeln findet jeden 2. und 4. Dienstag im Monat statt. \n  \nHinweis\nDa es sich um eine Wassersportveranstaltung handelt\, müssen alle Teilnehmer:innen schwimmen können. Ein “Seepferdchen” reicht nicht\, das Schwimmabzeichen in “Bronze” ist ausreichend. Wertgegenstände wie Uhren\, Ketten\, Ringe und sonstiger Schmuck sollten\, wenn möglich\, direkt zu Hause gelassen werden. \n  \nWas muss zum Paddeln mitgebracht werden? \n\nDem Wetter angepasste (Wassersport-) Bekleidung\, z.B. Hosen und Pullover aus Polyester-Mischgeweben (KEINE Jeans oder Baumwollhosen/-pullover)\nEine alte dünne (Regen-) Jacke\nFestes Schuhwerk\, z.B. Wasserschuhe oder ALTE\, fest am Fuß sitzende Halbschuhe (KEINE Flip-Flops\, Crocs\, Gummi-\, Wanderstiefel oder ähnliches)\, es darf nicht barfuß gepaddelt werden.\nEine komplette Wechselgarnitur (inkl. Unterwäsche und Schuhe)\nHandtuch\nBei Sonnenschein auch eine Kopfbedeckung\nBrillenträger denken bitte an ein Brillenband.
URL:https://www.osnabruecker-kanu-club.de/event/schnupperpaddeln-33/
LOCATION:Osnabrücker Kanu-Club (OKC)\, Die Eversburg 58\, Osnabrück\, 49090\, Deutschland
CATEGORIES:Schnupperpaddeln
ATTACH;FMTTYPE=image/jpeg:https://www.osnabruecker-kanu-club.de/wp-content/uploads/2022/04/MVIMG_20200721_202258_2-e1684475426947.jpg
ORGANIZER;CN="Kai Moranz":MAILTO:kai.moranz@outlook.de
GEO:52.3101755;7.9988733
X-APPLE-STRUCTURED-LOCATION;VALUE=URI;X-ADDRESS=Osnabrücker Kanu-Club (OKC) Die Eversburg 58 Osnabrück 49090 Deutschland;X-APPLE-RADIUS=500;X-TITLE=Die Eversburg 58:geo:7.9988733,52.3101755
END:VEVENT
BEGIN:VEVENT
DTSTART;TZID=Europe/Berlin:20230913T180000
DTEND;TZID=Europe/Berlin:20230913T190000
DTSTAMP:20260423T063906
CREATED:20231005T064730Z
LAST-MODIFIED:20241113T125733Z
UID:10006328-1694628000-1694631600@www.osnabruecker-kanu-club.de
SUMMARY:Bellicon-Training
DESCRIPTION:Beim Bellicon-Training handelt es sich um ein intensives Fitnessprogramm mit vielfältigen Übungskombinationen auf dem Trampolin. Es steigert die Ausdauer\, verbessert die Koordination\, stärkt die Muskeln und strafft nebenbei den ganzen Körper. Das Workout ist ganzheitlich und gelenkschonend. \nBenötigte Ausrüstung: Stopper-Socken \nAnmeldung bitte über https://xoyondo.com/dp/ue8rjfcGK4TyRWA  \nBitte gibt beim Ausfüllen der Anmeldung deinen Vor- und Nachnamen sowie deine Emailadresse an\, damit Verena im Fall des Falles mit dir in Kontakt treten kann\, z.B.\, wenn sie einen Termin kurzfristig absagen muss. Noch besser klappt es mit solchen An- bzw. Absagen\, wenn du ihrer Signal-Gruppe „Hoppers“ beitrittst. \nUm der Signal-Gruppe beizutreten\, klicke auf das Symbol:   \nRückfragen an Verena gerne auch per Mail (verenaweidner@gmx.de) oder per Telefon (0151 56003631).
URL:https://www.osnabruecker-kanu-club.de/event/bellicon-training-11-2-2/2023-09-13/
LOCATION:Osnabrücker Ruderverein (ORV)\, Glückaufstr. 16\, Osnabrück\, 49090\, Deutschland
CATEGORIES:Bellicon-Training,Gesundheitssport
ATTACH;FMTTYPE=image/jpeg:https://www.osnabruecker-kanu-club.de/wp-content/uploads/2023/01/bellicon.jpg
ORGANIZER;CN="Verena Weidner":MAILTO:verenaweidner@gmx.de
GEO:52.3097006;8.0003232
X-APPLE-STRUCTURED-LOCATION;VALUE=URI;X-ADDRESS=Osnabrücker Ruderverein (ORV) Glückaufstr. 16 Osnabrück 49090 Deutschland;X-APPLE-RADIUS=500;X-TITLE=Glückaufstr. 16:geo:8.0003232,52.3097006
END:VEVENT
BEGIN:VEVENT
DTSTART;TZID=Europe/Berlin:20230920T180000
DTEND;TZID=Europe/Berlin:20230920T190000
DTSTAMP:20260423T063906
CREATED:20231005T064730Z
LAST-MODIFIED:20241113T125733Z
UID:10006329-1695232800-1695236400@www.osnabruecker-kanu-club.de
SUMMARY:Bellicon-Training
DESCRIPTION:Beim Bellicon-Training handelt es sich um ein intensives Fitnessprogramm mit vielfältigen Übungskombinationen auf dem Trampolin. Es steigert die Ausdauer\, verbessert die Koordination\, stärkt die Muskeln und strafft nebenbei den ganzen Körper. Das Workout ist ganzheitlich und gelenkschonend. \nBenötigte Ausrüstung: Stopper-Socken \nAnmeldung bitte über https://xoyondo.com/dp/ue8rjfcGK4TyRWA  \nBitte gibt beim Ausfüllen der Anmeldung deinen Vor- und Nachnamen sowie deine Emailadresse an\, damit Verena im Fall des Falles mit dir in Kontakt treten kann\, z.B.\, wenn sie einen Termin kurzfristig absagen muss. Noch besser klappt es mit solchen An- bzw. Absagen\, wenn du ihrer Signal-Gruppe „Hoppers“ beitrittst. \nUm der Signal-Gruppe beizutreten\, klicke auf das Symbol:   \nRückfragen an Verena gerne auch per Mail (verenaweidner@gmx.de) oder per Telefon (0151 56003631).
URL:https://www.osnabruecker-kanu-club.de/event/bellicon-training-11-2-2/2023-09-20/
LOCATION:Osnabrücker Ruderverein (ORV)\, Glückaufstr. 16\, Osnabrück\, 49090\, Deutschland
CATEGORIES:Bellicon-Training,Gesundheitssport
ATTACH;FMTTYPE=image/jpeg:https://www.osnabruecker-kanu-club.de/wp-content/uploads/2023/01/bellicon.jpg
ORGANIZER;CN="Verena Weidner":MAILTO:verenaweidner@gmx.de
GEO:52.3097006;8.0003232
X-APPLE-STRUCTURED-LOCATION;VALUE=URI;X-ADDRESS=Osnabrücker Ruderverein (ORV) Glückaufstr. 16 Osnabrück 49090 Deutschland;X-APPLE-RADIUS=500;X-TITLE=Glückaufstr. 16:geo:8.0003232,52.3097006
END:VEVENT
BEGIN:VEVENT
DTSTART;TZID=Europe/Berlin:20230926T180000
DTEND;TZID=Europe/Berlin:20230926T200000
DTSTAMP:20260423T063906
CREATED:20230413T122423Z
LAST-MODIFIED:20230413T122423Z
UID:10006007-1695751200-1695758400@www.osnabruecker-kanu-club.de
SUMMARY:Schnupperpaddeln
DESCRIPTION:Du hast Interesse am Kanusport und möchtest unseren OKC kennenlernen? Dann melde dich über den Teilnehmen-Button für das Schnupperpaddeln an. Hier lernst du das Vereinshaus kennen\, kannst dich über das Vereinsangebot informieren und eine Runde mit uns paddeln. Sollte dieser Termin bereits ausgebucht sein\, schaue gerne nach einem der Folgetermine. Das Schnupperpaddeln findet jeden 2. und 4. Dienstag im Monat statt. \n  \nHinweis\nDa es sich um eine Wassersportveranstaltung handelt\, müssen alle Teilnehmer:innen schwimmen können. Ein “Seepferdchen” reicht nicht\, das Schwimmabzeichen in “Bronze” ist ausreichend. Wertgegenstände wie Uhren\, Ketten\, Ringe und sonstiger Schmuck sollten\, wenn möglich\, direkt zu Hause gelassen werden. \n  \nWas muss zum Paddeln mitgebracht werden? \n\nDem Wetter angepasste (Wassersport-) Bekleidung\, z.B. Hosen und Pullover aus Polyester-Mischgeweben (KEINE Jeans oder Baumwollhosen/-pullover)\nEine alte dünne (Regen-) Jacke\nFestes Schuhwerk\, z.B. Wasserschuhe oder ALTE\, fest am Fuß sitzende Halbschuhe (KEINE Flip-Flops\, Crocs\, Gummi-\, Wanderstiefel oder ähnliches)\, es darf nicht barfuß gepaddelt werden.\nEine komplette Wechselgarnitur (inkl. Unterwäsche und Schuhe)\nHandtuch\nBei Sonnenschein auch eine Kopfbedeckung\nBrillenträger denken bitte an ein Brillenband.
URL:https://www.osnabruecker-kanu-club.de/event/schnupperpaddeln-37/
LOCATION:Osnabrücker Kanu-Club (OKC)\, Die Eversburg 58\, Osnabrück\, 49090\, Deutschland
CATEGORIES:Schnupperpaddeln
ATTACH;FMTTYPE=image/jpeg:https://www.osnabruecker-kanu-club.de/wp-content/uploads/2022/04/MVIMG_20200721_202258_2-e1684475426947.jpg
ORGANIZER;CN="Sascha Doemer (OKC)":MAILTO:anmeldung@osnabruecker-kanu-club.de
GEO:52.3101755;7.9988733
X-APPLE-STRUCTURED-LOCATION;VALUE=URI;X-ADDRESS=Osnabrücker Kanu-Club (OKC) Die Eversburg 58 Osnabrück 49090 Deutschland;X-APPLE-RADIUS=500;X-TITLE=Die Eversburg 58:geo:7.9988733,52.3101755
END:VEVENT
BEGIN:VEVENT
DTSTART;TZID=Europe/Berlin:20230927T180000
DTEND;TZID=Europe/Berlin:20230927T190000
DTSTAMP:20260423T063906
CREATED:20231005T064730Z
LAST-MODIFIED:20241113T125733Z
UID:10006330-1695837600-1695841200@www.osnabruecker-kanu-club.de
SUMMARY:Bellicon-Training
DESCRIPTION:Beim Bellicon-Training handelt es sich um ein intensives Fitnessprogramm mit vielfältigen Übungskombinationen auf dem Trampolin. Es steigert die Ausdauer\, verbessert die Koordination\, stärkt die Muskeln und strafft nebenbei den ganzen Körper. Das Workout ist ganzheitlich und gelenkschonend. \nBenötigte Ausrüstung: Stopper-Socken \nAnmeldung bitte über https://xoyondo.com/dp/ue8rjfcGK4TyRWA  \nBitte gibt beim Ausfüllen der Anmeldung deinen Vor- und Nachnamen sowie deine Emailadresse an\, damit Verena im Fall des Falles mit dir in Kontakt treten kann\, z.B.\, wenn sie einen Termin kurzfristig absagen muss. Noch besser klappt es mit solchen An- bzw. Absagen\, wenn du ihrer Signal-Gruppe „Hoppers“ beitrittst. \nUm der Signal-Gruppe beizutreten\, klicke auf das Symbol:   \nRückfragen an Verena gerne auch per Mail (verenaweidner@gmx.de) oder per Telefon (0151 56003631).
URL:https://www.osnabruecker-kanu-club.de/event/bellicon-training-11-2-2/2023-09-27/
LOCATION:Osnabrücker Ruderverein (ORV)\, Glückaufstr. 16\, Osnabrück\, 49090\, Deutschland
CATEGORIES:Bellicon-Training,Gesundheitssport
ATTACH;FMTTYPE=image/jpeg:https://www.osnabruecker-kanu-club.de/wp-content/uploads/2023/01/bellicon.jpg
ORGANIZER;CN="Verena Weidner":MAILTO:verenaweidner@gmx.de
GEO:52.3097006;8.0003232
X-APPLE-STRUCTURED-LOCATION;VALUE=URI;X-ADDRESS=Osnabrücker Ruderverein (ORV) Glückaufstr. 16 Osnabrück 49090 Deutschland;X-APPLE-RADIUS=500;X-TITLE=Glückaufstr. 16:geo:8.0003232,52.3097006
END:VEVENT
END:VCALENDAR