BEGIN:VCALENDAR
VERSION:2.0
PRODID:-//Osnabrücker Kanu-Club von 1926 e.V.. - ECPv6.15.20//NONSGML v1.0//EN
CALSCALE:GREGORIAN
METHOD:PUBLISH
X-ORIGINAL-URL:https://www.osnabruecker-kanu-club.de
X-WR-CALDESC:Veranstaltungen für Osnabrücker Kanu-Club von 1926 e.V..
REFRESH-INTERVAL;VALUE=DURATION:PT1H
X-Robots-Tag:noindex
X-PUBLISHED-TTL:PT1H
BEGIN:VTIMEZONE
TZID:Europe/Berlin
BEGIN:DAYLIGHT
TZOFFSETFROM:+0100
TZOFFSETTO:+0200
TZNAME:CEST
DTSTART:20240331T010000
END:DAYLIGHT
BEGIN:STANDARD
TZOFFSETFROM:+0200
TZOFFSETTO:+0100
TZNAME:CET
DTSTART:20241027T010000
END:STANDARD
BEGIN:DAYLIGHT
TZOFFSETFROM:+0100
TZOFFSETTO:+0200
TZNAME:CEST
DTSTART:20250330T010000
END:DAYLIGHT
BEGIN:STANDARD
TZOFFSETFROM:+0200
TZOFFSETTO:+0100
TZNAME:CET
DTSTART:20251026T010000
END:STANDARD
BEGIN:DAYLIGHT
TZOFFSETFROM:+0100
TZOFFSETTO:+0200
TZNAME:CEST
DTSTART:20260329T010000
END:DAYLIGHT
BEGIN:STANDARD
TZOFFSETFROM:+0200
TZOFFSETTO:+0100
TZNAME:CET
DTSTART:20261025T010000
END:STANDARD
END:VTIMEZONE
BEGIN:VEVENT
DTSTART;TZID=Europe/Berlin:20250108T180000
DTEND;TZID=Europe/Berlin:20250108T190000
DTSTAMP:20260421T074722
CREATED:20241106T154346Z
LAST-MODIFIED:20241108T105137Z
UID:10006934-1736359200-1736362800@www.osnabruecker-kanu-club.de
SUMMARY:Bellicon für OKC / WSV / ORV
DESCRIPTION:Gesundheitssportkurs im Saal des ORV \nWeitere Informationen und die Anmeldung findet ihr unter: \nWillkommen auf den Seiten des Osnabrücker Rudervereins.
URL:https://www.osnabruecker-kanu-club.de/event/hatha-yoga-fuer-okc-wsv-orv-2/2025-01-08/
LOCATION:Osnabrücker Ruderverein (ORV)\, Glückaufstr. 16\, Osnabrück\, 49090\, Deutschland
CATEGORIES:Gesundheitssport,Veranstaltungen
ATTACH;FMTTYPE=image/png:https://www.osnabruecker-kanu-club.de/wp-content/uploads/2024/11/Screenshot-2024-11-08-103345.png
ORGANIZER;CN="Osnabr%C3%BCcker Ruder-Verein e.V.":MAILTO:geschaeftszimmer@orv.de
GEO:52.3097006;8.0003232
X-APPLE-STRUCTURED-LOCATION;VALUE=URI;X-ADDRESS=Osnabrücker Ruderverein (ORV) Glückaufstr. 16 Osnabrück 49090 Deutschland;X-APPLE-RADIUS=500;X-TITLE=Glückaufstr. 16:geo:8.0003232,52.3097006
END:VEVENT
BEGIN:VEVENT
DTSTART;TZID=Europe/Berlin:20250115T180000
DTEND;TZID=Europe/Berlin:20250115T190000
DTSTAMP:20260421T074722
CREATED:20241106T154346Z
LAST-MODIFIED:20241108T105137Z
UID:10006935-1736964000-1736967600@www.osnabruecker-kanu-club.de
SUMMARY:Bellicon für OKC / WSV / ORV
DESCRIPTION:Gesundheitssportkurs im Saal des ORV \nWeitere Informationen und die Anmeldung findet ihr unter: \nWillkommen auf den Seiten des Osnabrücker Rudervereins.
URL:https://www.osnabruecker-kanu-club.de/event/hatha-yoga-fuer-okc-wsv-orv-2/2025-01-15/
LOCATION:Osnabrücker Ruderverein (ORV)\, Glückaufstr. 16\, Osnabrück\, 49090\, Deutschland
CATEGORIES:Gesundheitssport,Veranstaltungen
ATTACH;FMTTYPE=image/png:https://www.osnabruecker-kanu-club.de/wp-content/uploads/2024/11/Screenshot-2024-11-08-103345.png
ORGANIZER;CN="Osnabr%C3%BCcker Ruder-Verein e.V.":MAILTO:geschaeftszimmer@orv.de
GEO:52.3097006;8.0003232
X-APPLE-STRUCTURED-LOCATION;VALUE=URI;X-ADDRESS=Osnabrücker Ruderverein (ORV) Glückaufstr. 16 Osnabrück 49090 Deutschland;X-APPLE-RADIUS=500;X-TITLE=Glückaufstr. 16:geo:8.0003232,52.3097006
END:VEVENT
BEGIN:VEVENT
DTSTART;TZID=Europe/Berlin:20250122T180000
DTEND;TZID=Europe/Berlin:20250122T190000
DTSTAMP:20260421T074722
CREATED:20241106T154346Z
LAST-MODIFIED:20241108T105137Z
UID:10006936-1737568800-1737572400@www.osnabruecker-kanu-club.de
SUMMARY:Bellicon für OKC / WSV / ORV
DESCRIPTION:Gesundheitssportkurs im Saal des ORV \nWeitere Informationen und die Anmeldung findet ihr unter: \nWillkommen auf den Seiten des Osnabrücker Rudervereins.
URL:https://www.osnabruecker-kanu-club.de/event/hatha-yoga-fuer-okc-wsv-orv-2/2025-01-22/
LOCATION:Osnabrücker Ruderverein (ORV)\, Glückaufstr. 16\, Osnabrück\, 49090\, Deutschland
CATEGORIES:Gesundheitssport,Veranstaltungen
ATTACH;FMTTYPE=image/png:https://www.osnabruecker-kanu-club.de/wp-content/uploads/2024/11/Screenshot-2024-11-08-103345.png
ORGANIZER;CN="Osnabr%C3%BCcker Ruder-Verein e.V.":MAILTO:geschaeftszimmer@orv.de
GEO:52.3097006;8.0003232
X-APPLE-STRUCTURED-LOCATION;VALUE=URI;X-ADDRESS=Osnabrücker Ruderverein (ORV) Glückaufstr. 16 Osnabrück 49090 Deutschland;X-APPLE-RADIUS=500;X-TITLE=Glückaufstr. 16:geo:8.0003232,52.3097006
END:VEVENT
BEGIN:VEVENT
DTSTART;TZID=Europe/Berlin:20250129T180000
DTEND;TZID=Europe/Berlin:20250129T190000
DTSTAMP:20260421T074722
CREATED:20241106T154346Z
LAST-MODIFIED:20241108T105137Z
UID:10006937-1738173600-1738177200@www.osnabruecker-kanu-club.de
SUMMARY:Bellicon für OKC / WSV / ORV
DESCRIPTION:Gesundheitssportkurs im Saal des ORV \nWeitere Informationen und die Anmeldung findet ihr unter: \nWillkommen auf den Seiten des Osnabrücker Rudervereins.
URL:https://www.osnabruecker-kanu-club.de/event/hatha-yoga-fuer-okc-wsv-orv-2/2025-01-29/
LOCATION:Osnabrücker Ruderverein (ORV)\, Glückaufstr. 16\, Osnabrück\, 49090\, Deutschland
CATEGORIES:Gesundheitssport,Veranstaltungen
ATTACH;FMTTYPE=image/png:https://www.osnabruecker-kanu-club.de/wp-content/uploads/2024/11/Screenshot-2024-11-08-103345.png
ORGANIZER;CN="Osnabr%C3%BCcker Ruder-Verein e.V.":MAILTO:geschaeftszimmer@orv.de
GEO:52.3097006;8.0003232
X-APPLE-STRUCTURED-LOCATION;VALUE=URI;X-ADDRESS=Osnabrücker Ruderverein (ORV) Glückaufstr. 16 Osnabrück 49090 Deutschland;X-APPLE-RADIUS=500;X-TITLE=Glückaufstr. 16:geo:8.0003232,52.3097006
END:VEVENT
END:VCALENDAR