BEGIN:VCALENDAR
VERSION:2.0
PRODID:-//Osnabrücker Kanu-Club von 1926 e.V.. - ECPv6.15.20//NONSGML v1.0//EN
CALSCALE:GREGORIAN
METHOD:PUBLISH
X-WR-CALNAME:Osnabrücker Kanu-Club von 1926 e.V..
X-ORIGINAL-URL:https://www.osnabruecker-kanu-club.de
X-WR-CALDESC:Veranstaltungen für Osnabrücker Kanu-Club von 1926 e.V..
REFRESH-INTERVAL;VALUE=DURATION:PT1H
X-Robots-Tag:noindex
X-PUBLISHED-TTL:PT1H
BEGIN:VTIMEZONE
TZID:Europe/Berlin
BEGIN:DAYLIGHT
TZOFFSETFROM:+0100
TZOFFSETTO:+0200
TZNAME:CEST
DTSTART:20210328T010000
END:DAYLIGHT
BEGIN:STANDARD
TZOFFSETFROM:+0200
TZOFFSETTO:+0100
TZNAME:CET
DTSTART:20211031T010000
END:STANDARD
BEGIN:DAYLIGHT
TZOFFSETFROM:+0100
TZOFFSETTO:+0200
TZNAME:CEST
DTSTART:20220327T010000
END:DAYLIGHT
BEGIN:STANDARD
TZOFFSETFROM:+0200
TZOFFSETTO:+0100
TZNAME:CET
DTSTART:20221030T010000
END:STANDARD
BEGIN:DAYLIGHT
TZOFFSETFROM:+0100
TZOFFSETTO:+0200
TZNAME:CEST
DTSTART:20230326T010000
END:DAYLIGHT
BEGIN:STANDARD
TZOFFSETFROM:+0200
TZOFFSETTO:+0100
TZNAME:CET
DTSTART:20231029T010000
END:STANDARD
END:VTIMEZONE
BEGIN:VEVENT
DTSTART;TZID=Europe/Berlin:20220302T180000
DTEND;TZID=Europe/Berlin:20220302T190000
DTSTAMP:20260421T102931
CREATED:20211018T152148Z
LAST-MODIFIED:20220119T170332Z
UID:10005372-1646244000-1646247600@www.osnabruecker-kanu-club.de
SUMMARY:Bellicon-Training
DESCRIPTION:Beim Bellicon-Training handelt es sich um ein intensives Fitnessprogramm mit vielfältigen Übungskombinationen auf dem Trampolin. Es steigert die Ausdauer\, verbessert die Koordination\, stärkt die Muskeln und strafft nebenbei den ganzen Körper. Das Workout ist ganzheitlich und gelenkschonend. \nBenötigte Ausrüstung: Stopper-Socken \nDie Veranstaltung wird zeitgleich als Präsenz- und als Onlineveranstaltung angeboten. \nEine Teilnahme an der Präsenzveranstaltung ist nur unter den Bedingungen von 2G+ oder nach erfolgter Booster-Impfung möglich. Teilnehmende müssen also geimpft oder genesen sein und zusätzlich einen tagesaktuellen negativen Coronatest vorlegen\, sollten sich keine Booster-Impfung nachweisen können. Corona-Selbsttests genügen nicht. Für die Teilnahme an der Onlineveranstaltung können Bellicons in begrenztem Umfang ausgeliehen werden. Das Training wird dann per Livestream übertragen. \nAnmeldung bitte direkt über Verena per Mail (verenaweidner@gmx.de) oder per Telefon (0151 56003631).
URL:https://www.osnabruecker-kanu-club.de/event/bellicon-training-10/2022-03-02/
LOCATION:Osnabrücker Kanu-Club (OKC)\, Die Eversburg 58\, Osnabrück\, 49090\, Deutschland
CATEGORIES:Bellicon-Training
ATTACH;FMTTYPE=image/jpeg:https://www.osnabruecker-kanu-club.de/wp-content/uploads/2021/10/Bellicon-e1634481521155.jpg
ORGANIZER;CN="Verena Weidner":MAILTO:verenaweidner@gmx.de
GEO:52.3101755;7.9988733
X-APPLE-STRUCTURED-LOCATION;VALUE=URI;X-ADDRESS=Osnabrücker Kanu-Club (OKC) Die Eversburg 58 Osnabrück 49090 Deutschland;X-APPLE-RADIUS=500;X-TITLE=Die Eversburg 58:geo:7.9988733,52.3101755
END:VEVENT
BEGIN:VEVENT
DTSTART;TZID=Europe/Berlin:20220307T183000
DTEND;TZID=Europe/Berlin:20220307T193000
DTSTAMP:20260421T102931
CREATED:20220124T071811Z
LAST-MODIFIED:20220124T071811Z
UID:10005453-1646677800-1646681400@www.osnabruecker-kanu-club.de
SUMMARY:Wintertraining mit Verena
DESCRIPTION:Funktionelles Ganzkörpertraining mit Physiotherapeutin Verena Landmeier. Im ersten Teil des Trainings liegt der Fokus auf der Verbesserung der Beweglichkeit. Der zweite Teil widmet sich dem Ausbau von Kraft\, Stabilität und Ausdauer. Alle Übungen werden mit dem eigenen Körpergewicht oder mit Kleingeräten absolviert. \nAlle Fitnesslevel sind herzlich willkommen. \nBenötigte Ausrüstung: Saubere Turnschuhe und Handtuch. \nACHTUNG: Teilnahme nur unter den Bedingungen von 2G+ möglich.
URL:https://www.osnabruecker-kanu-club.de/event/wintertraining-mit-verena-16/
LOCATION:Osnabrücker Ruderverein (ORV)\, Glückaufstr. 16\, Osnabrück\, 49090\, Deutschland
CATEGORIES:Wintertraining mit Verena
ORGANIZER;CN="Verena Landmeier":MAILTO:verena_landmeier@gmx.de
GEO:52.3097006;8.0003232
X-APPLE-STRUCTURED-LOCATION;VALUE=URI;X-ADDRESS=Osnabrücker Ruderverein (ORV) Glückaufstr. 16 Osnabrück 49090 Deutschland;X-APPLE-RADIUS=500;X-TITLE=Glückaufstr. 16:geo:8.0003232,52.3097006
END:VEVENT
BEGIN:VEVENT
DTSTART;TZID=Europe/Berlin:20220309T180000
DTEND;TZID=Europe/Berlin:20220309T190000
DTSTAMP:20260421T102931
CREATED:20211018T152148Z
LAST-MODIFIED:20220119T170332Z
UID:10005373-1646848800-1646852400@www.osnabruecker-kanu-club.de
SUMMARY:Bellicon-Training
DESCRIPTION:Beim Bellicon-Training handelt es sich um ein intensives Fitnessprogramm mit vielfältigen Übungskombinationen auf dem Trampolin. Es steigert die Ausdauer\, verbessert die Koordination\, stärkt die Muskeln und strafft nebenbei den ganzen Körper. Das Workout ist ganzheitlich und gelenkschonend. \nBenötigte Ausrüstung: Stopper-Socken \nDie Veranstaltung wird zeitgleich als Präsenz- und als Onlineveranstaltung angeboten. \nEine Teilnahme an der Präsenzveranstaltung ist nur unter den Bedingungen von 2G+ oder nach erfolgter Booster-Impfung möglich. Teilnehmende müssen also geimpft oder genesen sein und zusätzlich einen tagesaktuellen negativen Coronatest vorlegen\, sollten sich keine Booster-Impfung nachweisen können. Corona-Selbsttests genügen nicht. Für die Teilnahme an der Onlineveranstaltung können Bellicons in begrenztem Umfang ausgeliehen werden. Das Training wird dann per Livestream übertragen. \nAnmeldung bitte direkt über Verena per Mail (verenaweidner@gmx.de) oder per Telefon (0151 56003631).
URL:https://www.osnabruecker-kanu-club.de/event/bellicon-training-10/2022-03-09/
LOCATION:Osnabrücker Kanu-Club (OKC)\, Die Eversburg 58\, Osnabrück\, 49090\, Deutschland
CATEGORIES:Bellicon-Training
ATTACH;FMTTYPE=image/jpeg:https://www.osnabruecker-kanu-club.de/wp-content/uploads/2021/10/Bellicon-e1634481521155.jpg
ORGANIZER;CN="Verena Weidner":MAILTO:verenaweidner@gmx.de
GEO:52.3101755;7.9988733
X-APPLE-STRUCTURED-LOCATION;VALUE=URI;X-ADDRESS=Osnabrücker Kanu-Club (OKC) Die Eversburg 58 Osnabrück 49090 Deutschland;X-APPLE-RADIUS=500;X-TITLE=Die Eversburg 58:geo:7.9988733,52.3101755
END:VEVENT
BEGIN:VEVENT
DTSTART;TZID=Europe/Berlin:20220314T183000
DTEND;TZID=Europe/Berlin:20220314T193000
DTSTAMP:20260421T102931
CREATED:20220124T072535Z
LAST-MODIFIED:20220124T072535Z
UID:10005454-1647282600-1647286200@www.osnabruecker-kanu-club.de
SUMMARY:Wintertraining mit Verena
DESCRIPTION:Funktionelles Ganzkörpertraining mit Physiotherapeutin Verena Landmeier. Im ersten Teil des Trainings liegt der Fokus auf der Verbesserung der Beweglichkeit. Der zweite Teil widmet sich dem Ausbau von Kraft\, Stabilität und Ausdauer. Alle Übungen werden mit dem eigenen Körpergewicht oder mit Kleingeräten absolviert. \nAlle Fitnesslevel sind herzlich willkommen. \nBenötigte Ausrüstung: Saubere Turnschuhe und Handtuch. \nACHTUNG: Teilnahme nur unter den Bedingungen von 2G+ möglich.
URL:https://www.osnabruecker-kanu-club.de/event/wintertraining-mit-verena-17/
LOCATION:Osnabrücker Ruderverein (ORV)\, Glückaufstr. 16\, Osnabrück\, 49090\, Deutschland
CATEGORIES:Wintertraining mit Verena
ORGANIZER;CN="Verena Landmeier":MAILTO:verena_landmeier@gmx.de
GEO:52.3097006;8.0003232
X-APPLE-STRUCTURED-LOCATION;VALUE=URI;X-ADDRESS=Osnabrücker Ruderverein (ORV) Glückaufstr. 16 Osnabrück 49090 Deutschland;X-APPLE-RADIUS=500;X-TITLE=Glückaufstr. 16:geo:8.0003232,52.3097006
END:VEVENT
BEGIN:VEVENT
DTSTART;TZID=Europe/Berlin:20220316T180000
DTEND;TZID=Europe/Berlin:20220316T190000
DTSTAMP:20260421T102931
CREATED:20211018T152148Z
LAST-MODIFIED:20220119T170332Z
UID:10005374-1647453600-1647457200@www.osnabruecker-kanu-club.de
SUMMARY:Bellicon-Training
DESCRIPTION:Beim Bellicon-Training handelt es sich um ein intensives Fitnessprogramm mit vielfältigen Übungskombinationen auf dem Trampolin. Es steigert die Ausdauer\, verbessert die Koordination\, stärkt die Muskeln und strafft nebenbei den ganzen Körper. Das Workout ist ganzheitlich und gelenkschonend. \nBenötigte Ausrüstung: Stopper-Socken \nDie Veranstaltung wird zeitgleich als Präsenz- und als Onlineveranstaltung angeboten. \nEine Teilnahme an der Präsenzveranstaltung ist nur unter den Bedingungen von 2G+ oder nach erfolgter Booster-Impfung möglich. Teilnehmende müssen also geimpft oder genesen sein und zusätzlich einen tagesaktuellen negativen Coronatest vorlegen\, sollten sich keine Booster-Impfung nachweisen können. Corona-Selbsttests genügen nicht. Für die Teilnahme an der Onlineveranstaltung können Bellicons in begrenztem Umfang ausgeliehen werden. Das Training wird dann per Livestream übertragen. \nAnmeldung bitte direkt über Verena per Mail (verenaweidner@gmx.de) oder per Telefon (0151 56003631).
URL:https://www.osnabruecker-kanu-club.de/event/bellicon-training-10/2022-03-16/
LOCATION:Osnabrücker Kanu-Club (OKC)\, Die Eversburg 58\, Osnabrück\, 49090\, Deutschland
CATEGORIES:Bellicon-Training
ATTACH;FMTTYPE=image/jpeg:https://www.osnabruecker-kanu-club.de/wp-content/uploads/2021/10/Bellicon-e1634481521155.jpg
ORGANIZER;CN="Verena Weidner":MAILTO:verenaweidner@gmx.de
GEO:52.3101755;7.9988733
X-APPLE-STRUCTURED-LOCATION;VALUE=URI;X-ADDRESS=Osnabrücker Kanu-Club (OKC) Die Eversburg 58 Osnabrück 49090 Deutschland;X-APPLE-RADIUS=500;X-TITLE=Die Eversburg 58:geo:7.9988733,52.3101755
END:VEVENT
BEGIN:VEVENT
DTSTART;TZID=Europe/Berlin:20220321T183000
DTEND;TZID=Europe/Berlin:20220321T193000
DTSTAMP:20260421T102931
CREATED:20220124T072828Z
LAST-MODIFIED:20220124T072828Z
UID:10005455-1647887400-1647891000@www.osnabruecker-kanu-club.de
SUMMARY:Wintertraining mit Verena
DESCRIPTION:Funktionelles Ganzkörpertraining mit Physiotherapeutin Verena Landmeier. Im ersten Teil des Trainings liegt der Fokus auf der Verbesserung der Beweglichkeit. Der zweite Teil widmet sich dem Ausbau von Kraft\, Stabilität und Ausdauer. Alle Übungen werden mit dem eigenen Körpergewicht oder mit Kleingeräten absolviert. \nAlle Fitnesslevel sind herzlich willkommen. \nBenötigte Ausrüstung: Saubere Turnschuhe und Handtuch. \nACHTUNG: Teilnahme nur unter den Bedingungen von 2G+ möglich.
URL:https://www.osnabruecker-kanu-club.de/event/wintertraining-mit-verena-18/
LOCATION:Osnabrücker Ruderverein (ORV)\, Glückaufstr. 16\, Osnabrück\, 49090\, Deutschland
CATEGORIES:Wintertraining mit Verena
ORGANIZER;CN="Verena Landmeier":MAILTO:verena_landmeier@gmx.de
GEO:52.3097006;8.0003232
X-APPLE-STRUCTURED-LOCATION;VALUE=URI;X-ADDRESS=Osnabrücker Ruderverein (ORV) Glückaufstr. 16 Osnabrück 49090 Deutschland;X-APPLE-RADIUS=500;X-TITLE=Glückaufstr. 16:geo:8.0003232,52.3097006
END:VEVENT
BEGIN:VEVENT
DTSTART;TZID=Europe/Berlin:20220323T180000
DTEND;TZID=Europe/Berlin:20220323T190000
DTSTAMP:20260421T102931
CREATED:20211018T152148Z
LAST-MODIFIED:20220119T170332Z
UID:10005375-1648058400-1648062000@www.osnabruecker-kanu-club.de
SUMMARY:Bellicon-Training
DESCRIPTION:Beim Bellicon-Training handelt es sich um ein intensives Fitnessprogramm mit vielfältigen Übungskombinationen auf dem Trampolin. Es steigert die Ausdauer\, verbessert die Koordination\, stärkt die Muskeln und strafft nebenbei den ganzen Körper. Das Workout ist ganzheitlich und gelenkschonend. \nBenötigte Ausrüstung: Stopper-Socken \nDie Veranstaltung wird zeitgleich als Präsenz- und als Onlineveranstaltung angeboten. \nEine Teilnahme an der Präsenzveranstaltung ist nur unter den Bedingungen von 2G+ oder nach erfolgter Booster-Impfung möglich. Teilnehmende müssen also geimpft oder genesen sein und zusätzlich einen tagesaktuellen negativen Coronatest vorlegen\, sollten sich keine Booster-Impfung nachweisen können. Corona-Selbsttests genügen nicht. Für die Teilnahme an der Onlineveranstaltung können Bellicons in begrenztem Umfang ausgeliehen werden. Das Training wird dann per Livestream übertragen. \nAnmeldung bitte direkt über Verena per Mail (verenaweidner@gmx.de) oder per Telefon (0151 56003631).
URL:https://www.osnabruecker-kanu-club.de/event/bellicon-training-10/2022-03-23/
LOCATION:Osnabrücker Kanu-Club (OKC)\, Die Eversburg 58\, Osnabrück\, 49090\, Deutschland
CATEGORIES:Bellicon-Training
ATTACH;FMTTYPE=image/jpeg:https://www.osnabruecker-kanu-club.de/wp-content/uploads/2021/10/Bellicon-e1634481521155.jpg
ORGANIZER;CN="Verena Weidner":MAILTO:verenaweidner@gmx.de
GEO:52.3101755;7.9988733
X-APPLE-STRUCTURED-LOCATION;VALUE=URI;X-ADDRESS=Osnabrücker Kanu-Club (OKC) Die Eversburg 58 Osnabrück 49090 Deutschland;X-APPLE-RADIUS=500;X-TITLE=Die Eversburg 58:geo:7.9988733,52.3101755
END:VEVENT
BEGIN:VEVENT
DTSTART;TZID=Europe/Berlin:20220328T183000
DTEND;TZID=Europe/Berlin:20220328T193000
DTSTAMP:20260421T102931
CREATED:20220124T074629Z
LAST-MODIFIED:20220124T074629Z
UID:10005295-1648492200-1648495800@www.osnabruecker-kanu-club.de
SUMMARY:Wintertraining mit Verena
DESCRIPTION:Funktionelles Ganzkörpertraining mit Physiotherapeutin Verena Landmeier. Im ersten Teil des Trainings liegt der Fokus auf der Verbesserung der Beweglichkeit. Der zweite Teil widmet sich dem Ausbau von Kraft\, Stabilität und Ausdauer. Alle Übungen werden mit dem eigenen Körpergewicht oder mit Kleingeräten absolviert. \nAlle Fitnesslevel sind herzlich willkommen. \nBenötigte Ausrüstung: Saubere Turnschuhe und Handtuch. \nACHTUNG: Teilnahme nur unter den Bedingungen von 2G+ möglich.
URL:https://www.osnabruecker-kanu-club.de/event/wintertraining-mit-verena-19/
LOCATION:Osnabrücker Ruderverein (ORV)\, Glückaufstr. 16\, Osnabrück\, 49090\, Deutschland
CATEGORIES:Wintertraining mit Verena
ORGANIZER;CN="Verena Landmeier":MAILTO:verena_landmeier@gmx.de
GEO:52.3097006;8.0003232
X-APPLE-STRUCTURED-LOCATION;VALUE=URI;X-ADDRESS=Osnabrücker Ruderverein (ORV) Glückaufstr. 16 Osnabrück 49090 Deutschland;X-APPLE-RADIUS=500;X-TITLE=Glückaufstr. 16:geo:8.0003232,52.3097006
END:VEVENT
BEGIN:VEVENT
DTSTART;TZID=Europe/Berlin:20220330T180000
DTEND;TZID=Europe/Berlin:20220330T190000
DTSTAMP:20260421T102931
CREATED:20211018T152148Z
LAST-MODIFIED:20220119T170332Z
UID:10005376-1648663200-1648666800@www.osnabruecker-kanu-club.de
SUMMARY:Bellicon-Training
DESCRIPTION:Beim Bellicon-Training handelt es sich um ein intensives Fitnessprogramm mit vielfältigen Übungskombinationen auf dem Trampolin. Es steigert die Ausdauer\, verbessert die Koordination\, stärkt die Muskeln und strafft nebenbei den ganzen Körper. Das Workout ist ganzheitlich und gelenkschonend. \nBenötigte Ausrüstung: Stopper-Socken \nDie Veranstaltung wird zeitgleich als Präsenz- und als Onlineveranstaltung angeboten. \nEine Teilnahme an der Präsenzveranstaltung ist nur unter den Bedingungen von 2G+ oder nach erfolgter Booster-Impfung möglich. Teilnehmende müssen also geimpft oder genesen sein und zusätzlich einen tagesaktuellen negativen Coronatest vorlegen\, sollten sich keine Booster-Impfung nachweisen können. Corona-Selbsttests genügen nicht. Für die Teilnahme an der Onlineveranstaltung können Bellicons in begrenztem Umfang ausgeliehen werden. Das Training wird dann per Livestream übertragen. \nAnmeldung bitte direkt über Verena per Mail (verenaweidner@gmx.de) oder per Telefon (0151 56003631).
URL:https://www.osnabruecker-kanu-club.de/event/bellicon-training-10/2022-03-30/
LOCATION:Osnabrücker Kanu-Club (OKC)\, Die Eversburg 58\, Osnabrück\, 49090\, Deutschland
CATEGORIES:Bellicon-Training
ATTACH;FMTTYPE=image/jpeg:https://www.osnabruecker-kanu-club.de/wp-content/uploads/2021/10/Bellicon-e1634481521155.jpg
ORGANIZER;CN="Verena Weidner":MAILTO:verenaweidner@gmx.de
GEO:52.3101755;7.9988733
X-APPLE-STRUCTURED-LOCATION;VALUE=URI;X-ADDRESS=Osnabrücker Kanu-Club (OKC) Die Eversburg 58 Osnabrück 49090 Deutschland;X-APPLE-RADIUS=500;X-TITLE=Die Eversburg 58:geo:7.9988733,52.3101755
END:VEVENT
END:VCALENDAR